BEGIN:VCALENDAR
VERSION:2.0
PRODID:-//イルチブレインヨガ池袋スタジオ - ECPv6.15.20//NONSGML v1.0//EN
CALSCALE:GREGORIAN
METHOD:PUBLISH
X-WR-CALNAME:イルチブレインヨガ池袋スタジオ
X-ORIGINAL-URL:https://ilchibrainyoga-ikebukuro.com
X-WR-CALDESC:イルチブレインヨガ池袋スタジオ のイベント
REFRESH-INTERVAL;VALUE=DURATION:PT1H
X-Robots-Tag:noindex
X-PUBLISHED-TTL:PT1H
BEGIN:VTIMEZONE
TZID:Asia/Tokyo
BEGIN:STANDARD
TZOFFSETFROM:+0900
TZOFFSETTO:+0900
TZNAME:JST
DTSTART:20160101T000000
END:STANDARD
END:VTIMEZONE
BEGIN:VEVENT
DTSTART;TZID=Asia/Tokyo:20170103T140000
DTEND;TZID=Asia/Tokyo:20170103T153000
DTSTAMP:20260422T114344
CREATED:20161220T091844Z
LAST-MODIFIED:20161220T091844Z
UID:741-1483452000-1483457400@ilchibrainyoga-ikebukuro.com
SUMMARY:新春健康講座
DESCRIPTION:新しい年となりました。今年も健康で過ごしたいですね。 \nこの世を去るその瞬間まで健康にいられるよう健康法講座を開催します！ \n内容：イルチブレインヨガのブレイン体操で、身体も心もイキイキ元気になります。\n期待できる効果：腰痛・肩こり・便秘解消・冷え改善など、その他不調があればお知らせください。\n対象者：いつまでも健康で元気でいたい方ならどなたでも。\n開催日：1月3日（火）、1月8日（日）\n時間：14時から15時半\n参加費：2000円（60歳以上は1500円）\nその他：動きやすい服装でお越しください。 \n[event-button]
URL:https://ilchibrainyoga-ikebukuro.com/event/%e6%96%b0%e6%98%a5%e5%81%a5%e5%ba%b7%e8%ac%9b%e5%ba%a7/
LOCATION:イルチブレインヨガ池袋スタジオ\, 東京都 豊島区 東池袋 1-15-1 菱山ビル 8階\, 日本
END:VEVENT
BEGIN:VEVENT
DTSTART;TZID=Asia/Tokyo:20170108T140000
DTEND;TZID=Asia/Tokyo:20170108T153000
DTSTAMP:20260422T114344
CREATED:20161220T091949Z
LAST-MODIFIED:20161220T091949Z
UID:742-1483884000-1483889400@ilchibrainyoga-ikebukuro.com
SUMMARY:新春健康講座
DESCRIPTION:新しい年となりました。今年も健康で過ごしたいですね。 \nこの世を去るその瞬間まで健康にいられるよう健康法講座を開催します！ \n内容：イルチブレインヨガのブレイン体操で、身体も心もイキイキ元気になります。\n期待できる効果：腰痛・肩こり・便秘解消・冷え改善など、その他不調があればお知らせください。\n対象者：いつまでも健康で元気でいたい方ならどなたでも。\n開催日：1月3日（火）、1月8日（日）\n時間：14時から15時半\n参加費：2000円（60歳以上は1500円）\nその他：動きやすい服装でお越しください。 \n[event-button]
URL:https://ilchibrainyoga-ikebukuro.com/event/%e6%96%b0%e6%98%a5%e5%81%a5%e5%ba%b7%e8%ac%9b%e5%ba%a7-2/
LOCATION:イルチブレインヨガ池袋スタジオ\, 東京都 豊島区 東池袋 1-15-1 菱山ビル 8階\, 日本
END:VEVENT
BEGIN:VEVENT
DTSTART;TZID=Asia/Tokyo:20170110T101500
DTEND;TZID=Asia/Tokyo:20170110T204500
DTSTAMP:20260422T114344
CREATED:20161228T121329Z
LAST-MODIFIED:20161228T121329Z
UID:748-1484043300-1484081100@ilchibrainyoga-ikebukuro.com
SUMMARY:地球気功で心も身体もリラックス
DESCRIPTION:毎月15日は地球の日。地球気功で地球を感じながら、心と身体もリラックス。 \n地球気功はどなたでも簡単にできる動作を取り入れたリラックス気功。\n最後は地球につながるへそをヒーリングして、非日常を体験してみませんか。\n期待できる効果：疲れ解消、こころの安定、リラックスなど\n対象者：気功に興味ある方、健康に興味ある方、興味本位もOKです。\n開催日時：1月10日～13日 10:15-11:40、14：15-15：40、19:15-20:40（11日のみ19:45-）\n14日・15日 10:15-11:40\n会場名：イルチブレインヨガ 池袋スタジオ\n参加費：2000円 \nご希望の参加日時をご記載ください。 \n[event-button]
URL:https://ilchibrainyoga-ikebukuro.com/event/%e5%9c%b0%e7%90%83%e6%b0%97%e5%8a%9f%e3%81%a7%e5%bf%83%e3%82%82%e8%ba%ab%e4%bd%93%e3%82%82%e3%83%aa%e3%83%a9%e3%83%83%e3%82%af%e3%82%b9-7/
LOCATION:イルチブレインヨガ池袋スタジオ\, 東京都 豊島区 東池袋 1-15-1 菱山ビル 8階\, 日本
END:VEVENT
BEGIN:VEVENT
DTSTART;TZID=Asia/Tokyo:20170111T101500
DTEND;TZID=Asia/Tokyo:20170111T204000
DTSTAMP:20260422T114344
CREATED:20161228T121507Z
LAST-MODIFIED:20161228T121507Z
UID:749-1484129700-1484167200@ilchibrainyoga-ikebukuro.com
SUMMARY:地球気功で心も身体もリラックス
DESCRIPTION:毎月15日は地球の日。地球気功で地球を感じながら、心と身体もリラックス。 \n地球気功はどなたでも簡単にできる動作を取り入れたリラックス気功。\n最後は地球につながるへそをヒーリングして、非日常を体験してみませんか。\n期待できる効果：疲れ解消、こころの安定、リラックスなど\n対象者：気功に興味ある方、健康に興味ある方、興味本位もOKです。\n開催日時：1月10日～13日 10:15-11:40、14：15-15：40、19:15-20:40（11日のみ19:45-）\n14日・15日 10:15-11:40\n会場名：イルチブレインヨガ 池袋スタジオ\n参加費：2000円 \nご希望の参加日時をご記載ください。 \n[event-button]
URL:https://ilchibrainyoga-ikebukuro.com/event/%e5%9c%b0%e7%90%83%e6%b0%97%e5%8a%9f%e3%81%a7%e5%bf%83%e3%82%82%e8%ba%ab%e4%bd%93%e3%82%82%e3%83%aa%e3%83%a9%e3%83%83%e3%82%af%e3%82%b9-8/
LOCATION:イルチブレインヨガ池袋スタジオ\, 東京都 豊島区 東池袋 1-15-1 菱山ビル 8階\, 日本
END:VEVENT
BEGIN:VEVENT
DTSTART;TZID=Asia/Tokyo:20170112T101500
DTEND;TZID=Asia/Tokyo:20170112T204000
DTSTAMP:20260422T114344
CREATED:20170101T081700Z
LAST-MODIFIED:20170101T081700Z
UID:752-1484216100-1484253600@ilchibrainyoga-ikebukuro.com
SUMMARY:地球気功で心も身体もリラックス
DESCRIPTION:毎月15日は地球の日。地球気功で地球を感じながら、心と身体もリラックス。 \n地球気功はどなたでも簡単にできる動作を取り入れたリラックス気功。\n最後は地球につながるへそをヒーリングして、非日常を体験してみませんか。\n期待できる効果：疲れ解消、こころの安定、リラックスなど\n対象者：気功に興味ある方、健康に興味ある方、興味本位もOKです。\n開催日時：1月10日～13日 10:15-11:40、14：15-15：40、19:15-20:40（11日のみ19:45-）\n14日・15日 10:15-11:40\n会場名：イルチブレインヨガ 池袋スタジオ\n参加費：2000円 \nご希望の参加日時をご記載ください。 \n[event-button]
URL:https://ilchibrainyoga-ikebukuro.com/event/%e5%9c%b0%e7%90%83%e6%b0%97%e5%8a%9f%e3%81%a7%e5%bf%83%e3%82%82%e8%ba%ab%e4%bd%93%e3%82%82%e3%83%aa%e3%83%a9%e3%83%83%e3%82%af%e3%82%b9-9/
LOCATION:イルチブレインヨガ池袋スタジオ\, 東京都 豊島区 東池袋 1-15-1 菱山ビル 8階\, 日本
END:VEVENT
BEGIN:VEVENT
DTSTART;TZID=Asia/Tokyo:20170113T101500
DTEND;TZID=Asia/Tokyo:20170113T204000
DTSTAMP:20260422T114344
CREATED:20170101T081825Z
LAST-MODIFIED:20170101T081825Z
UID:753-1484302500-1484340000@ilchibrainyoga-ikebukuro.com
SUMMARY:地球気功で心も身体もリラックス
DESCRIPTION:毎月15日は地球の日。地球気功で地球を感じながら、心と身体もリラックス。 \n地球気功はどなたでも簡単にできる動作を取り入れたリラックス気功。\n最後は地球につながるへそをヒーリングして、非日常を体験してみませんか。\n期待できる効果：疲れ解消、こころの安定、リラックスなど\n対象者：気功に興味ある方、健康に興味ある方、興味本位もOKです。\n開催日時：1月10日～13日 10:15-11:40、14：15-15：40、19:15-20:40（11日のみ19:45-）\n14日・15日 10:15-11:40\n会場名：イルチブレインヨガ 池袋スタジオ\n参加費：2000円 \nご希望の参加日時をご記載ください。 \n[event-button]
URL:https://ilchibrainyoga-ikebukuro.com/event/%e5%9c%b0%e7%90%83%e6%b0%97%e5%8a%9f%e3%81%a7%e5%bf%83%e3%82%82%e8%ba%ab%e4%bd%93%e3%82%82%e3%83%aa%e3%83%a9%e3%83%83%e3%82%af%e3%82%b9-10/
LOCATION:イルチブレインヨガ池袋スタジオ\, 東京都 豊島区 東池袋 1-15-1 菱山ビル 8階\, 日本
END:VEVENT
BEGIN:VEVENT
DTSTART;TZID=Asia/Tokyo:20170114T101500
DTEND;TZID=Asia/Tokyo:20170114T114000
DTSTAMP:20260422T114344
CREATED:20170101T082007Z
LAST-MODIFIED:20170101T082007Z
UID:754-1484388900-1484394000@ilchibrainyoga-ikebukuro.com
SUMMARY:地球気功で心も身体もリラックス
DESCRIPTION:毎月15日は地球の日。地球気功で地球を感じながら、心と身体もリラックス。 \n地球気功はどなたでも簡単にできる動作を取り入れたリラックス気功。\n最後は地球につながるへそをヒーリングして、非日常を体験してみませんか。\n期待できる効果：疲れ解消、こころの安定、リラックスなど\n対象者：気功に興味ある方、健康に興味ある方、興味本位もOKです。\n開催日時：1月10日～13日 10:15-11:40、14：15-15：40、19:15-20:40（11日のみ19:45-）\n14日・15日 10:15-11:40\n会場名：イルチブレインヨガ 池袋スタジオ\n参加費：2000円 \nご希望の参加日時をご記載ください。 \n[event-button]
URL:https://ilchibrainyoga-ikebukuro.com/event/%e5%9c%b0%e7%90%83%e6%b0%97%e5%8a%9f%e3%81%a7%e5%bf%83%e3%82%82%e8%ba%ab%e4%bd%93%e3%82%82%e3%83%aa%e3%83%a9%e3%83%83%e3%82%af%e3%82%b9-11/
LOCATION:イルチブレインヨガ池袋スタジオ\, 東京都 豊島区 東池袋 1-15-1 菱山ビル 8階\, 日本
END:VEVENT
BEGIN:VEVENT
DTSTART;TZID=Asia/Tokyo:20170115T101500
DTEND;TZID=Asia/Tokyo:20170115T114000
DTSTAMP:20260422T114344
CREATED:20170101T082129Z
LAST-MODIFIED:20170101T082129Z
UID:755-1484475300-1484480400@ilchibrainyoga-ikebukuro.com
SUMMARY:地球気功で心も身体もリラックス
DESCRIPTION:毎月15日は地球の日。地球気功で地球を感じながら、心と身体もリラックス。 \n地球気功はどなたでも簡単にできる動作を取り入れたリラックス気功。\n最後は地球につながるへそをヒーリングして、非日常を体験してみませんか。\n期待できる効果：疲れ解消、こころの安定、リラックスなど\n対象者：気功に興味ある方、健康に興味ある方、興味本位もOKです。\n開催日時：1月10日～13日 10:15-11:40、14：15-15：40、19:15-20:40（11日のみ19:45-）\n14日・15日 10:15-11:40\n会場名：イルチブレインヨガ 池袋スタジオ\n参加費：2000円 \nご希望の参加日時をご記載ください。 \n[event-button]
URL:https://ilchibrainyoga-ikebukuro.com/event/%e5%9c%b0%e7%90%83%e6%b0%97%e5%8a%9f%e3%81%a7%e5%bf%83%e3%82%82%e8%ba%ab%e4%bd%93%e3%82%82%e3%83%aa%e3%83%a9%e3%83%83%e3%82%af%e3%82%b9-12/
LOCATION:イルチブレインヨガ池袋スタジオ\, 東京都 豊島区 東池袋 1-15-1 菱山ビル 8階\, 日本
END:VEVENT
BEGIN:VEVENT
DTSTART;TZID=Asia/Tokyo:20170115T140000
DTEND;TZID=Asia/Tokyo:20170115T153000
DTSTAMP:20260422T114344
CREATED:20170106T083213Z
LAST-MODIFIED:20170106T083213Z
UID:757-1484488800-1484494200@ilchibrainyoga-ikebukuro.com
SUMMARY:体温アップ！体質改善ワークショップ
DESCRIPTION:腸内環境を整えて健康体質を手に入れましょう！ \n□ 去年のパンツがきつい\n□ 便秘になることがある\n□ 冷え・むくみが気になる\n□ 肩こり・腰痛がツライ\n□ 運動不足 \nあてはまる項目があった方、諦めている方、いまこそ体質改善のチャンスです！ \n体質を改善するにはその体質になっている原因を知ることが大切。\nカラダに起こる状態はカラダのことだけとは限りません。\n体質になっていることを知り、その改善のポイントとメカニズムを知ることにより「あ、変わった」と思える体験をしてみましょう。 \nワークショップでは90分のトレーニングと、改善のカギを握る「おへそヒーリング」また個別カウンセリングを通して、今の状態と改善に必要なことを体感いただきます。 \n[event-button]
URL:https://ilchibrainyoga-ikebukuro.com/event/%e4%bd%93%e6%b8%a9%e3%82%a2%e3%83%83%e3%83%97%ef%bc%81%e4%bd%93%e8%b3%aa%e6%94%b9%e5%96%84%e3%83%af%e3%83%bc%e3%82%af%e3%82%b7%e3%83%a7%e3%83%83%e3%83%97/
LOCATION:イルチブレインヨガ池袋スタジオ\, 東京都 豊島区 東池袋 1-15-1 菱山ビル 8階\, 日本
END:VEVENT
BEGIN:VEVENT
DTSTART;TZID=Asia/Tokyo:20170122T140000
DTEND;TZID=Asia/Tokyo:20170122T153000
DTSTAMP:20260422T114344
CREATED:20170106T083334Z
LAST-MODIFIED:20170106T083334Z
UID:758-1485093600-1485099000@ilchibrainyoga-ikebukuro.com
SUMMARY:体温アップ!体質改善ワークショップ
DESCRIPTION:腸内環境を整えて健康体質を手に入れましょう！ \n□ 去年のパンツがきつい\n□ 便秘になることがある\n□ 冷え・むくみが気になる\n□ 肩こり・腰痛がツライ\n□ 運動不足 \nあてはまる項目があった方、諦めている方、いまこそ体質改善のチャンスです！ \n体質を改善するにはその体質になっている原因を知ることが大切。\nカラダに起こる状態はカラダのことだけとは限りません。\n体質になっていることを知り、その改善のポイントとメカニズムを知ることにより「あ、変わった」と思える体験をしてみましょう。 \nワークショップでは90分のトレーニングと、改善のカギを握る「おへそヒーリング」また個別カウンセリングを通して、今の状態と改善に必要なことを体感いただきます。 \n[event-button]
URL:https://ilchibrainyoga-ikebukuro.com/event/%e4%bd%93%e6%b8%a9%e3%82%a2%e3%83%83%e3%83%97%e4%bd%93%e8%b3%aa%e6%94%b9%e5%96%84%e3%83%af%e3%83%bc%e3%82%af%e3%82%b7%e3%83%a7%e3%83%83%e3%83%97/
LOCATION:イルチブレインヨガ池袋スタジオ\, 東京都 豊島区 東池袋 1-15-1 菱山ビル 8階\, 日本
END:VEVENT
BEGIN:VEVENT
DTSTART;TZID=Asia/Tokyo:20170128T140000
DTEND;TZID=Asia/Tokyo:20170128T153000
DTSTAMP:20260422T114344
CREATED:20170106T083447Z
LAST-MODIFIED:20170106T083447Z
UID:759-1485612000-1485617400@ilchibrainyoga-ikebukuro.com
SUMMARY:体温アップ！体質改善ワークショップ
DESCRIPTION:腸内環境を整えて健康体質を手に入れましょう！ \n□ 去年のパンツがきつい\n□ 便秘になることがある\n□ 冷え・むくみが気になる\n□ 肩こり・腰痛がツライ\n□ 運動不足 \nあてはまる項目があった方、諦めている方、いまこそ体質改善のチャンスです！ \n体質を改善するにはその体質になっている原因を知ることが大切。\nカラダに起こる状態はカラダのことだけとは限りません。\n体質になっていることを知り、その改善のポイントとメカニズムを知ることにより「あ、変わった」と思える体験をしてみましょう。 \nワークショップでは90分のトレーニングと、改善のカギを握る「おへそヒーリング」また個別カウンセリングを通して、今の状態と改善に必要なことを体感いただきます。 \n[event-button]
URL:https://ilchibrainyoga-ikebukuro.com/event/%e4%bd%93%e6%b8%a9%e3%82%a2%e3%83%83%e3%83%97%ef%bc%81%e4%bd%93%e8%b3%aa%e6%94%b9%e5%96%84%e3%83%af%e3%83%bc%e3%82%af%e3%82%b7%e3%83%a7%e3%83%83%e3%83%97-2/
LOCATION:イルチブレインヨガ池袋スタジオ\, 東京都 豊島区 東池袋 1-15-1 菱山ビル 8階\, 日本
END:VEVENT
BEGIN:VEVENT
DTSTART;TZID=Asia/Tokyo:20170129T140000
DTEND;TZID=Asia/Tokyo:20170129T153000
DTSTAMP:20260422T114344
CREATED:20170106T083549Z
LAST-MODIFIED:20170106T083549Z
UID:760-1485698400-1485703800@ilchibrainyoga-ikebukuro.com
SUMMARY:体温アップ！体質改善ワークショップ
DESCRIPTION:腸内環境を整えて健康体質を手に入れましょう！ \n□ 去年のパンツがきつい\n□ 便秘になることがある\n□ 冷え・むくみが気になる\n□ 肩こり・腰痛がツライ\n□ 運動不足 \nあてはまる項目があった方、諦めている方、いまこそ体質改善のチャンスです！ \n体質を改善するにはその体質になっている原因を知ることが大切。\nカラダに起こる状態はカラダのことだけとは限りません。\n体質になっていることを知り、その改善のポイントとメカニズムを知ることにより「あ、変わった」と思える体験をしてみましょう。 \nワークショップでは90分のトレーニングと、改善のカギを握る「おへそヒーリング」また個別カウンセリングを通して、今の状態と改善に必要なことを体感いただきます。 \n[event-button]
URL:https://ilchibrainyoga-ikebukuro.com/event/%e4%bd%93%e6%b8%a9%e3%82%a2%e3%83%83%e3%83%97%ef%bc%81%e4%bd%93%e8%b3%aa%e6%94%b9%e5%96%84%e3%83%af%e3%83%bc%e3%82%af%e3%82%b7%e3%83%a7%e3%83%83%e3%83%97-3/
LOCATION:イルチブレインヨガ池袋スタジオ\, 東京都 豊島区 東池袋 1-15-1 菱山ビル 8階\, 日本
END:VEVENT
END:VCALENDAR