BEGIN:VCALENDAR
VERSION:2.0
PRODID:-//イルチブレインヨガ池袋スタジオ - ECPv6.15.20//NONSGML v1.0//EN
CALSCALE:GREGORIAN
METHOD:PUBLISH
X-WR-CALNAME:イルチブレインヨガ池袋スタジオ
X-ORIGINAL-URL:https://ilchibrainyoga-ikebukuro.com
X-WR-CALDESC:イルチブレインヨガ池袋スタジオ のイベント
REFRESH-INTERVAL;VALUE=DURATION:PT1H
X-Robots-Tag:noindex
X-PUBLISHED-TTL:PT1H
BEGIN:VTIMEZONE
TZID:Asia/Tokyo
BEGIN:STANDARD
TZOFFSETFROM:+0900
TZOFFSETTO:+0900
TZNAME:JST
DTSTART:20150101T000000
END:STANDARD
END:VTIMEZONE
BEGIN:VEVENT
DTSTART;TZID=Asia/Tokyo:20161217T140000
DTEND;TZID=Asia/Tokyo:20161217T153000
DTSTAMP:20260422T102416
CREATED:20161205T130044Z
LAST-MODIFIED:20161205T130044Z
UID:734-1481983200-1481988600@ilchibrainyoga-ikebukuro.com
SUMMARY:体質改善チャレンジ講座
DESCRIPTION:□ 去年のパンツがきつい\n□ 便秘になることがある\n□ 冷え・むくみが気になる\n□ 肩こり・腰痛がツライ\n□ 運動不足 \nあてはまる項目があった方、諦めている方、いまこそ体質改善のチャンスです！ \n体質を改善するにはその体質になっている原因を知ることが大切。\nカラダに起こる状態はカラダのことだけとは限りません。\n体質になっていることを知り、その改善のポイントとメカニズムを知ることにより「あ、変わった」と思える体験をしてみましょう。 \nチャレンジ講座では90分のトレーニングと、改善のカギを握る「おへそヒーリング」また個別カウンセリングを通して、今の状態と改善に必要なことを体感いただきます。\n講座にてご納得頂けた場合、ぜひ一か月のチャレンジモニターになって体質を改善しましょう！ \n体質改善モニターの目標値をクリアした方にはスタジオからステキなプレゼントもご用意♪\n老若男女どなたでもご参加OKです！ \n[event-button]
URL:https://ilchibrainyoga-ikebukuro.com/event/%e4%bd%93%e8%b3%aa%e6%94%b9%e5%96%84%e3%83%81%e3%83%a3%e3%83%ac%e3%83%b3%e3%82%b8%e8%ac%9b%e5%ba%a7-3/
LOCATION:イルチブレインヨガ池袋スタジオ\, 東京都 豊島区 東池袋 1-15-1 菱山ビル 8階\, 日本
END:VEVENT
BEGIN:VEVENT
DTSTART;TZID=Asia/Tokyo:20161218T140000
DTEND;TZID=Asia/Tokyo:20161218T153000
DTSTAMP:20260422T102416
CREATED:20161205T130137Z
LAST-MODIFIED:20161205T130137Z
UID:735-1482069600-1482075000@ilchibrainyoga-ikebukuro.com
SUMMARY:体質改善チャレンジ講座
DESCRIPTION:□ 去年のパンツがきつい\n□ 便秘になることがある\n□ 冷え・むくみが気になる\n□ 肩こり・腰痛がツライ\n□ 運動不足 \nあてはまる項目があった方、諦めている方、いまこそ体質改善のチャンスです！ \n体質を改善するにはその体質になっている原因を知ることが大切。\nカラダに起こる状態はカラダのことだけとは限りません。\n体質になっていることを知り、その改善のポイントとメカニズムを知ることにより「あ、変わった」と思える体験をしてみましょう。 \nチャレンジ講座では90分のトレーニングと、改善のカギを握る「おへそヒーリング」また個別カウンセリングを通して、今の状態と改善に必要なことを体感いただきます。\n講座にてご納得頂けた場合、ぜひ一か月のチャレンジモニターになって体質を改善しましょう！ \n体質改善モニターの目標値をクリアした方にはスタジオからステキなプレゼントもご用意♪\n老若男女どなたでもご参加OKです！ \n[event-button]
URL:https://ilchibrainyoga-ikebukuro.com/event/%e4%bd%93%e8%b3%aa%e6%94%b9%e5%96%84%e3%83%81%e3%83%a3%e3%83%ac%e3%83%b3%e3%82%b8%e8%ac%9b%e5%ba%a7-4/
LOCATION:イルチブレインヨガ池袋スタジオ\, 東京都 豊島区 東池袋 1-15-1 菱山ビル 8階\, 日本
END:VEVENT
BEGIN:VEVENT
DTSTART;TZID=Asia/Tokyo:20161224T140000
DTEND;TZID=Asia/Tokyo:20161224T193000
DTSTAMP:20260422T102416
CREATED:20161207T124339Z
LAST-MODIFIED:20161207T124735Z
UID:737-1482588000-1482607800@ilchibrainyoga-ikebukuro.com
SUMMARY:映画と瞑想会～引き寄せの法則「CHANGE」ほか映画鑑賞と瞑想会
DESCRIPTION:クリスマスは聖なる日。 \nこの世の中の平和を願う日でもあります。そんな想いで、クリスマス映画鑑賞と瞑想会を行います。 \nいくつかの映画とじっくり自分の内側を眺める瞑想で体も心も清らかなひと時を過ごしませんか。 \n期待できる効果：クリスマスを映画と瞑想会でハッピーに☆\n対象者：クリスマスのひとときを、映画と瞑想でハッピーに過ごしたい方ならどなたでも。\n開催日：12/24（土）と12/25（日）\n時間：14時から19時半（ただし、出入り自由）スケジュールはその他参照\n参加費：瞑想会参加費として1500円\n問合せ電話：03-5949-5457\nトレーナー：川合静香他\nその他：＜スケジュール＞\n14時～15時半 引き寄せの法則映画「CHANGE」と瞑想会\n16時半～19時半 映画「聖なる予言」と瞑想会（12/24）\n映画「美しい緑の星」と瞑想会（12/25）\n＜持ち物＞\n簡単な体操も行いますので、楽な服装またはお着替えをお持ちください。\n＜お楽しみ＞\nクリスマスにちなんでケーキ付きです❤ \n[event-button]
URL:https://ilchibrainyoga-ikebukuro.com/event/%e6%98%a0%e7%94%bb%e3%81%a8%e7%9e%91%e6%83%b3%e4%bc%9a%ef%bd%9e%e5%bc%95%e3%81%8d%e5%af%84%e3%81%9b%e3%81%ae%e6%b3%95%e5%89%87%e3%80%8cchange%e3%80%8d%e3%81%bb%e3%81%8b%e6%98%a0%e7%94%bb%e9%91%91/
LOCATION:イルチブレインヨガ池袋スタジオ\, 東京都 豊島区 東池袋 1-15-1 菱山ビル 8階\, 日本
END:VEVENT
END:VCALENDAR