BEGIN:VCALENDAR
VERSION:2.0
PRODID:-//イルチブレインヨガ池袋スタジオ - ECPv6.15.20//NONSGML v1.0//EN
CALSCALE:GREGORIAN
METHOD:PUBLISH
X-ORIGINAL-URL:https://ilchibrainyoga-ikebukuro.com
X-WR-CALDESC:イルチブレインヨガ池袋スタジオ のイベント
REFRESH-INTERVAL;VALUE=DURATION:PT1H
X-Robots-Tag:noindex
X-PUBLISHED-TTL:PT1H
BEGIN:VTIMEZONE
TZID:Asia/Tokyo
BEGIN:STANDARD
TZOFFSETFROM:+0900
TZOFFSETTO:+0900
TZNAME:JST
DTSTART:20150101T000000
END:STANDARD
END:VTIMEZONE
BEGIN:VEVENT
DTSTART;TZID=Asia/Tokyo:20161103T140000
DTEND;TZID=Asia/Tokyo:20161103T144500
DTSTAMP:20260422T102514
CREATED:20161029T132438Z
LAST-MODIFIED:20161029T132438Z
UID:702-1478181600-1478184300@ilchibrainyoga-ikebukuro.com
SUMMARY:寝たままできるセルフヒーリング~ヘソから始める美腸習慣
DESCRIPTION:寝たまま自分でできるヘソヒーリングです。 \n朝と夜5分ずつで簡単にできるヒーリングを、ミニ講義つきでわかりやすく伝授します。\n期待できる効果：便秘・むくみ解消、冷え性解消、肩こり・腰痛改善、こころの安定、脱メタボ\n対象者：健康が気になる方、体調がすぐれない方、何となくすっきりしない方など。\n開催日：11月3日、5日、9日、18日、26日\n時間：14:00～14:45\n参加費：1000円\n問合せ電話：03-5949-5457\nトレーナー：川合静香　他\nその他：ウエスト周りが楽な服装、タオルなど \n[event-button]
URL:https://ilchibrainyoga-ikebukuro.com/event/%e5%af%9d%e3%81%9f%e3%81%be%e3%81%be%e3%81%a7%e3%81%8d%e3%82%8b%e3%82%bb%e3%83%ab%e3%83%95%e3%83%92%e3%83%bc%e3%83%aa%e3%83%b3%e3%82%b0%e3%83%98%e3%82%bd%e3%81%8b%e3%82%89%e5%a7%8b%e3%82%81%e3%82%8b/
LOCATION:イルチブレインヨガ池袋スタジオ\, 東京都 豊島区 東池袋 1-15-1 菱山ビル 8階\, 日本
END:VEVENT
BEGIN:VEVENT
DTSTART;TZID=Asia/Tokyo:20161105T140000
DTEND;TZID=Asia/Tokyo:20161105T144500
DTSTAMP:20260422T102514
CREATED:20161029T132548Z
LAST-MODIFIED:20161029T132548Z
UID:703-1478354400-1478357100@ilchibrainyoga-ikebukuro.com
SUMMARY:寝たままできるセルフヒーリング~ヘソから始める美腸習慣
DESCRIPTION:寝たまま自分でできるヘソヒーリングです。 \n朝と夜5分ずつで簡単にできるヒーリングを、ミニ講義つきでわかりやすく伝授します。\n期待できる効果：便秘・むくみ解消、冷え性解消、肩こり・腰痛改善、こころの安定、脱メタボ\n対象者：健康が気になる方、体調がすぐれない方、何となくすっきりしない方など。\n開催日：11月3日、5日、9日、18日、26日\n時間：14:00～14:45\n参加費：1000円\n問合せ電話：03-5949-5457\nトレーナー：川合静香　他\nその他：ウエスト周りが楽な服装、タオルなど \n[event-button]
URL:https://ilchibrainyoga-ikebukuro.com/event/%e5%af%9d%e3%81%9f%e3%81%be%e3%81%be%e3%81%a7%e3%81%8d%e3%82%8b%e3%82%bb%e3%83%ab%e3%83%95%e3%83%92%e3%83%bc%e3%83%aa%e3%83%b3%e3%82%b0%e3%83%98%e3%82%bd%e3%81%8b%e3%82%89%e5%a7%8b%e3%82%81%e3%82%8b-2/
LOCATION:イルチブレインヨガ池袋スタジオ\, 東京都 豊島区 東池袋 1-15-1 菱山ビル 8階\, 日本
END:VEVENT
BEGIN:VEVENT
DTSTART;TZID=Asia/Tokyo:20161109T140000
DTEND;TZID=Asia/Tokyo:20161109T144500
DTSTAMP:20260422T102514
CREATED:20161029T132722Z
LAST-MODIFIED:20161029T132722Z
UID:704-1478700000-1478702700@ilchibrainyoga-ikebukuro.com
SUMMARY:寝たままできるセルフヒーリング~ヘソから始める美腸習慣
DESCRIPTION:寝たまま自分でできるヘソヒーリングです。 \n朝と夜5分ずつで簡単にできるヒーリングを、ミニ講義つきでわかりやすく伝授します。\n期待できる効果：便秘・むくみ解消、冷え性解消、肩こり・腰痛改善、こころの安定、脱メタボ\n対象者：健康が気になる方、体調がすぐれない方、何となくすっきりしない方など。\n開催日：11月3日、5日、9日、18日、26日\n時間：14:00～14:45\n会場名：イルチブレインヨガ　池袋スタジオ\n参加費：1000円\n問合せ電話：03-5949-5457\nトレーナー：川合静香　他\nその他：ウエスト周りが楽な服装、タオルなど \n 
URL:https://ilchibrainyoga-ikebukuro.com/event/%e5%af%9d%e3%81%9f%e3%81%be%e3%81%be%e3%81%a7%e3%81%8d%e3%82%8b%e3%82%bb%e3%83%ab%e3%83%95%e3%83%92%e3%83%bc%e3%83%aa%e3%83%b3%e3%82%b0%e3%83%98%e3%82%bd%e3%81%8b%e3%82%89%e5%a7%8b%e3%82%81%e3%82%8b-3/
LOCATION:イルチブレインヨガ池袋スタジオ\, 東京都 豊島区 東池袋 1-15-1 菱山ビル 8階\, 日本
END:VEVENT
BEGIN:VEVENT
DTSTART;TZID=Asia/Tokyo:20161115T101500
DTEND;TZID=Asia/Tokyo:20161115T204000
DTSTAMP:20260422T102514
CREATED:20161029T134809Z
LAST-MODIFIED:20161029T134841Z
UID:709-1479204900-1479242400@ilchibrainyoga-ikebukuro.com
SUMMARY:地球気功で心も身体もリラックス
DESCRIPTION:毎月15日は地球の日。地球気功で地球を感じながら、心と身体もリラックス。 \n最後は地球につながるへそをヒーリングして、非日常を体験してみませんか。\n期待できる効果：疲れ解消、こころの安定、リラックスなど\n対象者：気功に興味ある方、健康に興味ある方、興味本位でもOK！\n開催日時：11月15日～18日　10:15-11:40、19:15-20:40（16日のみ19:45-） \n19日・20日　10:15-11:40\n会場名：イルチブレインヨガ 池袋スタジオ\n参加費：1500円\n問合せ電話：03-5949-5457\nトレーナー：川合静香 他\nその他：楽な服装、タオルなど \nご希望の時間をご指定ください。 \n[event-button] \n 
URL:https://ilchibrainyoga-ikebukuro.com/event/%e5%9c%b0%e7%90%83%e6%b0%97%e5%8a%9f%e3%81%a7%e5%bf%83%e3%82%82%e8%ba%ab%e4%bd%93%e3%82%82%e3%83%aa%e3%83%a9%e3%83%83%e3%82%af%e3%82%b9/
LOCATION:イルチブレインヨガ池袋スタジオ\, 東京都 豊島区 東池袋 1-15-1 菱山ビル 8階\, 日本
END:VEVENT
BEGIN:VEVENT
DTSTART;TZID=Asia/Tokyo:20161116T101500
DTEND;TZID=Asia/Tokyo:20161116T204000
DTSTAMP:20260422T102514
CREATED:20161029T135017Z
LAST-MODIFIED:20161029T135748Z
UID:710-1479291300-1479328800@ilchibrainyoga-ikebukuro.com
SUMMARY:地球気功で心も身体もリラックス
DESCRIPTION:毎月15日は地球の日。地球気功で地球を感じながら、心と身体もリラックス。 \n最後は地球につながるへそをヒーリングして、非日常を体験してみませんか。\n期待できる効果：疲れ解消、こころの安定、リラックスなど\n対象者：気功に興味ある方、健康に興味ある方、興味本位でもOK！\n開催日時：11月15日～18日　10:15-11:40、19:15-20:40（16日のみ19:45-） \n19日・20日　10:15-11:40\n会場名：イルチブレインヨガ 池袋スタジオ\n参加費：1500円\n問合せ電話：03-5949-5457\nトレーナー：川合静香 他\nその他：楽な服装、タオルなど \nご希望の時間をご指定ください。 \n[event-button]
URL:https://ilchibrainyoga-ikebukuro.com/event/%e5%9c%b0%e7%90%83%e6%b0%97%e5%8a%9f%e3%81%a7%e5%bf%83%e3%82%82%e8%ba%ab%e4%bd%93%e3%82%82%e3%83%aa%e3%83%a9%e3%83%83%e3%82%af%e3%82%b9-2/
LOCATION:イルチブレインヨガ池袋スタジオ\, 東京都 豊島区 東池袋 1-15-1 菱山ビル 8階\, 日本
END:VEVENT
BEGIN:VEVENT
DTSTART;TZID=Asia/Tokyo:20161117T101500
DTEND;TZID=Asia/Tokyo:20161117T204000
DTSTAMP:20260422T102514
CREATED:20161029T135226Z
LAST-MODIFIED:20161029T135704Z
UID:711-1479377700-1479415200@ilchibrainyoga-ikebukuro.com
SUMMARY:地球気功で心も身体もリラックス
DESCRIPTION:毎月15日は地球の日。地球気功で地球を感じながら、心と身体もリラックス。 \n最後は地球につながるへそをヒーリングして、非日常を体験してみませんか。\n期待できる効果：疲れ解消、こころの安定、リラックスなど\n対象者：気功に興味ある方、健康に興味ある方、興味本位でもOK！\n開催日時：11月15日～18日　10:15-11:40、19:15-20:40（16日のみ19:45-） \n19日・20日　10:15-11:40\n会場名：イルチブレインヨガ 池袋スタジオ\n参加費：1500円\n問合せ電話：03-5949-5457\nトレーナー：川合静香 他\nその他：楽な服装、タオルなど \nご希望の時間をご指定ください。 \n[event-button]
URL:https://ilchibrainyoga-ikebukuro.com/event/%e5%9c%b0%e7%90%83%e6%b0%97%e5%8a%9f%e3%81%a7%e5%bf%83%e3%82%82%e8%ba%ab%e4%bd%93%e3%82%82%e3%83%aa%e3%83%a9%e3%83%83%e3%82%af%e3%82%b9-3/
LOCATION:イルチブレインヨガ池袋スタジオ\, 東京都 豊島区 東池袋 1-15-1 菱山ビル 8階\, 日本
END:VEVENT
BEGIN:VEVENT
DTSTART;TZID=Asia/Tokyo:20161118T101500
DTEND;TZID=Asia/Tokyo:20161118T204000
DTSTAMP:20260422T102514
CREATED:20161029T135338Z
LAST-MODIFIED:20161029T135338Z
UID:712-1479464100-1479501600@ilchibrainyoga-ikebukuro.com
SUMMARY:地球気功で心も身体もリラックス
DESCRIPTION:毎月15日は地球の日。地球気功で地球を感じながら、心と身体もリラックス。 \n最後は地球につながるへそをヒーリングして、非日常を体験してみませんか。\n期待できる効果：疲れ解消、こころの安定、リラックスなど\n対象者：気功に興味ある方、健康に興味ある方、興味本位でもOK！\n開催日時：11月15日～18日　10:15-11:40、19:15-20:40（16日のみ19:45-） \n19日・20日　10:15-11:40\n会場名：イルチブレインヨガ 池袋スタジオ\n参加費：1500円\n問合せ電話：03-5949-5457\nトレーナー：川合静香 他\nその他：楽な服装、タオルなど \nご希望の時間をご指定ください。 \n[event-button]
URL:https://ilchibrainyoga-ikebukuro.com/event/%e5%9c%b0%e7%90%83%e6%b0%97%e5%8a%9f%e3%81%a7%e5%bf%83%e3%82%82%e8%ba%ab%e4%bd%93%e3%82%82%e3%83%aa%e3%83%a9%e3%83%83%e3%82%af%e3%82%b9-4/
LOCATION:イルチブレインヨガ池袋スタジオ\, 東京都 豊島区 東池袋 1-15-1 菱山ビル 8階\, 日本
END:VEVENT
BEGIN:VEVENT
DTSTART;TZID=Asia/Tokyo:20161118T140000
DTEND;TZID=Asia/Tokyo:20161118T144500
DTSTAMP:20260422T102514
CREATED:20161029T133051Z
LAST-MODIFIED:20161029T133051Z
UID:705-1479477600-1479480300@ilchibrainyoga-ikebukuro.com
SUMMARY:寝たままできるセルフヒーリング~ヘソから始める美腸習慣
DESCRIPTION:寝たまま自分でできるヘソヒーリングです。 \n朝と夜5分ずつで簡単にできるヒーリングを、ミニ講義つきでわかりやすく伝授します。\n期待できる効果：便秘・むくみ解消、冷え性解消、肩こり・腰痛改善、こころの安定、脱メタボ\n対象者：健康が気になる方、体調がすぐれない方、何となくすっきりしない方など。\n開催日：11月3日、5日、9日、18日、26日\n時間：14:00～14:45\n会場名：イルチブレインヨガ　池袋スタジオ\n参加費：1000円\n問合せ電話：03-5949-5457\nトレーナー：川合静香　他\nその他：ウエスト周りが楽な服装、タオルなど \n[event-button]
URL:https://ilchibrainyoga-ikebukuro.com/event/%e5%af%9d%e3%81%9f%e3%81%be%e3%81%be%e3%81%a7%e3%81%8d%e3%82%8b%e3%82%bb%e3%83%ab%e3%83%95%e3%83%92%e3%83%bc%e3%83%aa%e3%83%b3%e3%82%b0%e3%83%98%e3%82%bd%e3%81%8b%e3%82%89%e5%a7%8b%e3%82%81%e3%82%8b-4/
LOCATION:イルチブレインヨガ池袋スタジオ\, 東京都 豊島区 東池袋 1-15-1 菱山ビル 8階\, 日本
END:VEVENT
BEGIN:VEVENT
DTSTART;TZID=Asia/Tokyo:20161119T101500
DTEND;TZID=Asia/Tokyo:20161119T114000
DTSTAMP:20260422T102514
CREATED:20161029T140025Z
LAST-MODIFIED:20161029T140025Z
UID:713-1479550500-1479555600@ilchibrainyoga-ikebukuro.com
SUMMARY:地球気功で心も身体もリラックス
DESCRIPTION:毎月15日は地球の日。地球気功で地球を感じながら、心と身体もリラックス。 \n最後は地球につながるへそをヒーリングして、非日常を体験してみませんか。\n期待できる効果：疲れ解消、こころの安定、リラックスなど\n対象者：気功に興味ある方、健康に興味ある方、興味本位でもOK！\n開催日時：11月15日～18日　10:15-11:40、19:15-20:40（16日のみ19:45-） \n19日・20日　10:15-11:40\n会場名：イルチブレインヨガ 池袋スタジオ\n参加費：1500円\n問合せ電話：03-5949-5457\nトレーナー：川合静香 他\nその他：楽な服装、タオルなど \nご希望の時間をご指定ください。 \n[event-button]
URL:https://ilchibrainyoga-ikebukuro.com/event/%e5%9c%b0%e7%90%83%e6%b0%97%e5%8a%9f%e3%81%a7%e5%bf%83%e3%82%82%e8%ba%ab%e4%bd%93%e3%82%82%e3%83%aa%e3%83%a9%e3%83%83%e3%82%af%e3%82%b9-5/
LOCATION:イルチブレインヨガ池袋スタジオ\, 東京都 豊島区 東池袋 1-15-1 菱山ビル 8階\, 日本
END:VEVENT
BEGIN:VEVENT
DTSTART;TZID=Asia/Tokyo:20161120T101500
DTEND;TZID=Asia/Tokyo:20161120T114000
DTSTAMP:20260422T102514
CREATED:20161029T140157Z
LAST-MODIFIED:20161029T140157Z
UID:714-1479636900-1479642000@ilchibrainyoga-ikebukuro.com
SUMMARY:地球気功で心も身体もリラックス
DESCRIPTION:毎月15日は地球の日。地球気功で地球を感じながら、心と身体もリラックス。 \n最後は地球につながるへそをヒーリングして、非日常を体験してみませんか。\n期待できる効果：疲れ解消、こころの安定、リラックスなど\n対象者：気功に興味ある方、健康に興味ある方、興味本位でもOK！\n開催日時：11月15日～18日　10:15-11:40、19:15-20:40（16日のみ19:45-） \n19日・20日　10:15-11:40\n会場名：イルチブレインヨガ 池袋スタジオ\n参加費：1500円\n問合せ電話：03-5949-5457\nトレーナー：川合静香 他\nその他：楽な服装、タオルなど \nご希望の時間をご指定ください。 \n[event-button]
URL:https://ilchibrainyoga-ikebukuro.com/event/%e5%9c%b0%e7%90%83%e6%b0%97%e5%8a%9f%e3%81%a7%e5%bf%83%e3%82%82%e8%ba%ab%e4%bd%93%e3%82%82%e3%83%aa%e3%83%a9%e3%83%83%e3%82%af%e3%82%b9-6/
LOCATION:イルチブレインヨガ池袋スタジオ\, 東京都 豊島区 東池袋 1-15-1 菱山ビル 8階\, 日本
END:VEVENT
BEGIN:VEVENT
DTSTART;TZID=Asia/Tokyo:20161126T140000
DTEND;TZID=Asia/Tokyo:20161126T144500
DTSTAMP:20260422T102514
CREATED:20161029T133206Z
LAST-MODIFIED:20161029T133206Z
UID:706-1480168800-1480171500@ilchibrainyoga-ikebukuro.com
SUMMARY:寝たままできるセルフヒーリング~ヘソから始める美腸習慣
DESCRIPTION:寝たまま自分でできるヘソヒーリングです。 \n朝と夜5分ずつで簡単にできるヒーリングを、ミニ講義つきでわかりやすく伝授します。\n期待できる効果：便秘・むくみ解消、冷え性解消、肩こり・腰痛改善、こころの安定、脱メタボ\n対象者：健康が気になる方、体調がすぐれない方、何となくすっきりしない方など。\n開催日：11月3日、5日、9日、18日、26日\n時間：14:00～14:45\n会場名：イルチブレインヨガ　池袋スタジオ\n参加費：1000円\n問合せ電話：03-5949-5457\nトレーナー：川合静香　他\nその他：ウエスト周りが楽な服装、タオルなど \n[event-button]
URL:https://ilchibrainyoga-ikebukuro.com/event/%e5%af%9d%e3%81%9f%e3%81%be%e3%81%be%e3%81%a7%e3%81%8d%e3%82%8b%e3%82%bb%e3%83%ab%e3%83%95%e3%83%92%e3%83%bc%e3%83%aa%e3%83%b3%e3%82%b0%e3%83%98%e3%82%bd%e3%81%8b%e3%82%89%e5%a7%8b%e3%82%81%e3%82%8b-5/
LOCATION:イルチブレインヨガ池袋スタジオ\, 東京都 豊島区 東池袋 1-15-1 菱山ビル 8階\, 日本
END:VEVENT
BEGIN:VEVENT
DTSTART;TZID=Asia/Tokyo:20161126T140000
DTEND;TZID=Asia/Tokyo:20161126T153000
DTSTAMP:20260422T102514
CREATED:20161118T084849Z
LAST-MODIFIED:20161118T084849Z
UID:728-1480168800-1480174200@ilchibrainyoga-ikebukuro.com
SUMMARY:体質改善チャレンジ講座
DESCRIPTION:□ 去年のパンツがきつい\n□ 便秘になることがある\n□ 冷え・むくみが気になる\n□ 肩こり・腰痛がツライ\n□ 運動不足 \nあてはまる項目があった方、諦めている方、いまこそ体質改善のチャンスです！ \n体質を改善するにはその体質になっている原因を知ることが大切。\nカラダに起こる状態はカラダのことだけとは限りません。\n体質になっていることを知り、その改善のポイントとメカニズムを知ることにより「あ、変わった」と思える体験をしてみましょう。 \nチャレンジ講座では90分のトレーニングと、改善のカギを握る「おへそヒーリング」また個別カウンセリングを通して、今の状態と改善に必要なことを体感いただきます。\n講座にてご納得頂けた場合、ぜひ一か月のチャレンジモニターになって体質を改善しましょう！ \n体質改善モニターの目標値をクリアした方にはスタジオからステキなプレゼントもご用意♪\n老若男女どなたでもご参加OKです！ \n[event-button]
URL:https://ilchibrainyoga-ikebukuro.com/event/%e4%bd%93%e8%b3%aa%e6%94%b9%e5%96%84%e3%83%81%e3%83%a3%e3%83%ac%e3%83%b3%e3%82%b8%e8%ac%9b%e5%ba%a7/
LOCATION:イルチブレインヨガ池袋スタジオ\, 東京都 豊島区 東池袋 1-15-1 菱山ビル 8階\, 日本
END:VEVENT
BEGIN:VEVENT
DTSTART;TZID=Asia/Tokyo:20161127T140000
DTEND;TZID=Asia/Tokyo:20161127T153000
DTSTAMP:20260422T102514
CREATED:20161118T084952Z
LAST-MODIFIED:20161118T084952Z
UID:729-1480255200-1480260600@ilchibrainyoga-ikebukuro.com
SUMMARY:体質改善チャレンジ講座
DESCRIPTION:□ 去年のパンツがきつい\n□ 便秘になることがある\n□ 冷え・むくみが気になる\n□ 肩こり・腰痛がツライ\n□ 運動不足 \nあてはまる項目があった方、諦めている方、いまこそ体質改善のチャンスです！ \n体質を改善するにはその体質になっている原因を知ることが大切。\nカラダに起こる状態はカラダのことだけとは限りません。\n体質になっていることを知り、その改善のポイントとメカニズムを知ることにより「あ、変わった」と思える体験をしてみましょう。 \nチャレンジ講座では90分のトレーニングと、改善のカギを握る「おへそヒーリング」また個別カウンセリングを通して、今の状態と改善に必要なことを体感いただきます。\n講座にてご納得頂けた場合、ぜひ一か月のチャレンジモニターになって体質を改善しましょう！ \n体質改善モニターの目標値をクリアした方にはスタジオからステキなプレゼントもご用意♪\n老若男女どなたでもご参加OKです！ \n[event-button]
URL:https://ilchibrainyoga-ikebukuro.com/event/%e4%bd%93%e8%b3%aa%e6%94%b9%e5%96%84%e3%83%81%e3%83%a3%e3%83%ac%e3%83%b3%e3%82%b8%e8%ac%9b%e5%ba%a7-2/
LOCATION:イルチブレインヨガ池袋スタジオ\, 東京都 豊島区 東池袋 1-15-1 菱山ビル 8階\, 日本
END:VEVENT
END:VCALENDAR