BEGIN:VCALENDAR
VERSION:2.0
PRODID:-//イルチブレインヨガ池袋スタジオ - ECPv6.15.20//NONSGML v1.0//EN
CALSCALE:GREGORIAN
METHOD:PUBLISH
X-ORIGINAL-URL:https://ilchibrainyoga-ikebukuro.com
X-WR-CALDESC:イルチブレインヨガ池袋スタジオ のイベント
REFRESH-INTERVAL;VALUE=DURATION:PT1H
X-Robots-Tag:noindex
X-PUBLISHED-TTL:PT1H
BEGIN:VTIMEZONE
TZID:Asia/Tokyo
BEGIN:STANDARD
TZOFFSETFROM:+0900
TZOFFSETTO:+0900
TZNAME:JST
DTSTART:20150101T000000
END:STANDARD
END:VTIMEZONE
BEGIN:VEVENT
DTSTART;TZID=Asia/Tokyo:20160810T200000
DTEND;TZID=Asia/Tokyo:20160810T220000
DTSTAMP:20260422T112738
CREATED:20160804T091206Z
LAST-MODIFIED:20160804T091206Z
UID:644-1470859200-1470866400@ilchibrainyoga-ikebukuro.com
SUMMARY:映画「ＣＨＡＮＧＥ」上映会と引き寄せの法則～本「ＣＨＡＮＧＥ 脳と世界を変える本当の力」日本語版出版記念
DESCRIPTION:願っていることを叶えるためににはどうしたらいいでしょうか。 \n誰でも叶えたい願いをかかえながら、なかなか叶わない現実にストレスを感じたり、諦めたりした経験はあるでしょう。 \n願いを叶えるために、ほしいものを引き寄せるための方法を、「脳」の作用からひもときます。 \n映画「CHANGE」上映会＆体験会 \n期待できる効果：本当に引き寄せるとは。あなたの本当の願いを引き寄せる方法が体験できます。\n対象者：本当の願いを探しているあなた。引き寄せの法則を知りたいあなた。 \nその他：引き寄せがうまくなる簡単な体操・呼吸などしますので、動きやすい服装でお越しください。 \nトレーナー：川合静香 他 \n参加費：1500円 \n[event-button]
URL:https://ilchibrainyoga-ikebukuro.com/event/%e6%98%a0%e7%94%bb%e3%80%8c%ef%bd%83%ef%bd%88%ef%bd%81%ef%bd%8e%ef%bd%87%ef%bd%85%e3%80%8d%e4%b8%8a%e6%98%a0%e4%bc%9a%e3%81%a8%e5%bc%95%e3%81%8d%e5%af%84%e3%81%9b%e3%81%ae%e6%b3%95%e5%89%87%ef%bd%9e/
LOCATION:イルチブレインヨガ池袋スタジオ\, 東京都 豊島区 東池袋 1-15-1 菱山ビル 8階\, 日本
END:VEVENT
BEGIN:VEVENT
DTSTART;TZID=Asia/Tokyo:20160821T133000
DTEND;TZID=Asia/Tokyo:20160821T143000
DTSTAMP:20260422T112738
CREATED:20160804T092108Z
LAST-MODIFIED:20160804T092108Z
UID:646-1471786200-1471789800@ilchibrainyoga-ikebukuro.com
SUMMARY:ブレインアップ親子体験会in池袋
DESCRIPTION:夏休みを活用して、今話題のブレインアップ(脳に注目したこども向け教育法)を体験できます。 また、新しい健康法へそヒーリングを親子で体験できます。 興味がある方はベンジャミンスクールやジュニアベンジャミンの説明もいたします。 \n※ベンジャミンスクールとは、人間性の回復を目的に現在の「教える型教育」から脱却し、こども自らのやる気を育てる新しい創造型教育モデルです。  期待できる効果：親子で行うブレインアップで、家族愛、親子愛が深まります。  対象者：小学生から中学生2年生までのお子様とその保護者さま  開催日：8/21（日）13時30分から  会場名：イルチブレインヨガ池袋スタジオ  参加費：1000円（親子ひと組）  問合せ電話：03-5949-5457 トレーナー：池袋こども脳教育講師 その他：おへそヒーリンングと体操や呼吸もしますので、ベルトの無い動きやすい服装でお越しください。 \n[event-button]
URL:https://ilchibrainyoga-ikebukuro.com/event/%e3%83%96%e3%83%ac%e3%82%a4%e3%83%b3%e3%82%a2%e3%83%83%e3%83%97%e8%a6%aa%e5%ad%90%e4%bd%93%e9%a8%93%e4%bc%9ain%e6%b1%a0%e8%a2%8b/
LOCATION:イルチブレインヨガ池袋スタジオ\, 東京都 豊島区 東池袋 1-15-1 菱山ビル 8階\, 日本
END:VEVENT
BEGIN:VEVENT
DTSTART;TZID=Asia/Tokyo:20160828T133000
DTEND;TZID=Asia/Tokyo:20160828T153000
DTSTAMP:20260422T112738
CREATED:20160804T091338Z
LAST-MODIFIED:20160804T091338Z
UID:645-1472391000-1472398200@ilchibrainyoga-ikebukuro.com
SUMMARY:映画「ＣＨＡＮＧＥ」上映会と引き寄せの法則～本「ＣＨＡＮＧＥ 脳と世界を変える本当の力」日本語版出版記念
DESCRIPTION:願っていることを叶えるためににはどうしたらいいでしょうか。 \n誰でも叶えたい願いをかかえながら、なかなか叶わない現実にストレスを感じたり、諦めたりした経験はあるでしょう。 \n願いを叶えるために、ほしいものを引き寄せるための方法を、「脳」の作用からひもときます。 \n映画「CHANGE」上映会＆体験会 \n期待できる効果：本当に引き寄せるとは。あなたの本当の願いを引き寄せる方法が体験できます。\n対象者：本当の願いを探しているあなた。引き寄せの法則を知りたいあなた。 \nその他：引き寄せがうまくなる簡単な体操・呼吸などしますので、動きやすい服装でお越しください。 \nトレーナー：川合静香 他 \n参加費：1500円 \n[event-button]
URL:https://ilchibrainyoga-ikebukuro.com/event/%e6%98%a0%e7%94%bb%e3%80%8c%ef%bd%83%ef%bd%88%ef%bd%81%ef%bd%8e%ef%bd%87%ef%bd%85%e3%80%8d%e4%b8%8a%e6%98%a0%e4%bc%9a%e3%81%a8%e5%bc%95%e3%81%8d%e5%af%84%e3%81%9b%e3%81%ae%e6%b3%95%e5%89%87%ef%bd%9e-2/
LOCATION:イルチブレインヨガ池袋スタジオ\, 東京都 豊島区 東池袋 1-15-1 菱山ビル 8階\, 日本
END:VEVENT
END:VCALENDAR