BEGIN:VCALENDAR
VERSION:2.0
PRODID:-//イルチブレインヨガ池袋スタジオ - ECPv6.15.20//NONSGML v1.0//EN
CALSCALE:GREGORIAN
METHOD:PUBLISH
X-WR-CALNAME:イルチブレインヨガ池袋スタジオ
X-ORIGINAL-URL:https://ilchibrainyoga-ikebukuro.com
X-WR-CALDESC:イルチブレインヨガ池袋スタジオ のイベント
REFRESH-INTERVAL;VALUE=DURATION:PT1H
X-Robots-Tag:noindex
X-PUBLISHED-TTL:PT1H
BEGIN:VTIMEZONE
TZID:Asia/Tokyo
BEGIN:STANDARD
TZOFFSETFROM:+0900
TZOFFSETTO:+0900
TZNAME:JST
DTSTART:20150101T000000
END:STANDARD
END:VTIMEZONE
BEGIN:VEVENT
DTSTART;TZID=Asia/Tokyo:20160710T143000
DTEND;TZID=Asia/Tokyo:20160710T180000
DTSTAMP:20260422T102417
CREATED:20160709T032509Z
LAST-MODIFIED:20160709T032509Z
UID:627-1468161000-1468173600@ilchibrainyoga-ikebukuro.com
SUMMARY:おへそと腸から全身活性！健康講座
DESCRIPTION:体の中心にあるおへそ。 \n普段どくらいおへそに関心をもっていますか。実はおへそには大きな秘密があったのです。 \nお母さんのおなかの中で酸素や栄養をもらうおへそ。 \n役目は終わったと思われがちですが、実は、内臓やリンパ節、神経が集まった「健康ボタン」だったのです！ \nおへそをほぐすと、全身ぽかぽかすっきり！ \nおへその周りはセロトニンがうまれる腸に囲まれています。おへそと腸で驚くべき効果を体感きます。 \nおへそ相もみながら体も心も元気になる健康法を体験を交えながらわかりやすくお伝えします。 \n冷え・むくみ・肩こり・腰痛にも効果のあるおへそと腸の健康講座、お試しください。 \n①14:30～、②16:30～　ご希望の時間をお選びください。 \n[event-button]
URL:https://ilchibrainyoga-ikebukuro.com/event/%e3%81%8a%e3%81%b8%e3%81%9d%e3%81%a8%e8%85%b8%e3%81%8b%e3%82%89%e5%85%a8%e8%ba%ab%e6%b4%bb%e6%80%a7%ef%bc%81%e5%81%a5%e5%ba%b7%e8%ac%9b%e5%ba%a7/
LOCATION:イルチブレインヨガ池袋スタジオ\, 東京都 豊島区 東池袋 1-15-1 菱山ビル 8階\, 日本
END:VEVENT
BEGIN:VEVENT
DTSTART;TZID=Asia/Tokyo:20160716T143000
DTEND;TZID=Asia/Tokyo:20160716T180000
DTSTAMP:20260422T102417
CREATED:20160709T032906Z
LAST-MODIFIED:20160709T032906Z
UID:628-1468679400-1468692000@ilchibrainyoga-ikebukuro.com
SUMMARY:おへそと腸から全身活性！誰でも気軽に健康講座♪
DESCRIPTION:体の中心にあるおへそ。 \n普段どくらいおへそに関心をもっていますか。実はおへそには大きな秘密があったのです。 \nお母さんのおなかの中で酸素や栄養をもらうおへそ。 \n役目は終わったと思われがちですが、実は、内臓やリンパ節、神経が集まった「健康ボタン」だったのです！ \nおへそをほぐすと、全身ぽかぽかすっきり！ \nおへその周りはセロトニンがうまれる腸に囲まれています。おへそと腸で驚くべき効果を体感きます。 \nおへそ相もみながら体も心も元気になる健康法を体験を交えながらわかりやすくお伝えします。 \n冷え・むくみ・肩こり・腰痛にも効果のあるおへそと腸の健康講座、お試しください。 \n①14:30～、②16:30～　ご希望の時間をお選びください。 \n[event-button]
URL:https://ilchibrainyoga-ikebukuro.com/event/%e3%81%8a%e3%81%b8%e3%81%9d%e3%81%a8%e8%85%b8%e3%81%8b%e3%82%89%e5%85%a8%e8%ba%ab%e6%b4%bb%e6%80%a7%ef%bc%81%e8%aa%b0%e3%81%a7%e3%82%82%e6%b0%97%e8%bb%bd%e3%81%ab%e5%81%a5%e5%ba%b7%e8%ac%9b%e5%ba%a7/
LOCATION:イルチブレインヨガ池袋スタジオ\, 東京都 豊島区 東池袋 1-15-1 菱山ビル 8階\, 日本
END:VEVENT
BEGIN:VEVENT
DTSTART;TZID=Asia/Tokyo:20160721T143000
DTEND;TZID=Asia/Tokyo:20160721T180000
DTSTAMP:20260422T102417
CREATED:20160709T034321Z
LAST-MODIFIED:20160709T034321Z
UID:629-1469111400-1469124000@ilchibrainyoga-ikebukuro.com
SUMMARY:おへそと腸から全身活性！誰でも気軽に健康講座♪
DESCRIPTION:体の中心にあるおへそ。 \n普段どくらいおへそに関心をもっていますか。実はおへそには大きな秘密があったのです。 \nお母さんのおなかの中で酸素や栄養をもらうおへそ。 \n役目は終わったと思われがちですが、実は、内臓やリンパ節、神経が集まった「健康ボタン」だったのです！ \nおへそをほぐすと、全身ぽかぽかすっきり！ \nおへその周りはセロトニンがうまれる腸に囲まれています。おへそと腸で驚くべき効果を体感きます。 \nおへそ相もみながら体も心も元気になる健康法を体験を交えながらわかりやすくお伝えします。 \n冷え・むくみ・肩こり・腰痛にも効果のあるおへそと腸の健康講座、お試しください。 \n①14:30～、②16:30～　ご希望の時間をお選びください。 \n[event-button]
URL:https://ilchibrainyoga-ikebukuro.com/event/%e3%81%8a%e3%81%b8%e3%81%9d%e3%81%a8%e8%85%b8%e3%81%8b%e3%82%89%e5%85%a8%e8%ba%ab%e6%b4%bb%e6%80%a7%ef%bc%81%e8%aa%b0%e3%81%a7%e3%82%82%e6%b0%97%e8%bb%bd%e3%81%ab%e5%81%a5%e5%ba%b7%e8%ac%9b%e5%ba%a7-2/
LOCATION:イルチブレインヨガ池袋スタジオ\, 東京都 豊島区 東池袋 1-15-1 菱山ビル 8階\, 日本
END:VEVENT
BEGIN:VEVENT
DTSTART;TZID=Asia/Tokyo:20160723T140000
DTEND;TZID=Asia/Tokyo:20160723T180000
DTSTAMP:20260422T102417
CREATED:20160718T191606Z
LAST-MODIFIED:20160718T191606Z
UID:636-1469282400-1469296800@ilchibrainyoga-ikebukuro.com
SUMMARY:追加開催！腸とおへその健康講座♪
DESCRIPTION:体の中心にあるおへそ。 \n普段どくらいおへそに関心をもっていますか。実はおへそには大きな秘密があったのです。 \nお母さんのおなかの中で酸素や栄養をもらうおへそ。 \n役目は終わったと思われがちですが、実は、内臓やリンパ節、神経が集まった「健康ボタン」だったのです！ \nおへそをほぐすと、全身ぽかぽかすっきり！ \nおへその周りはセロトニンがうまれる腸に囲まれています。おへそと腸で驚くべき効果を体感きます。 \nおへそ相もみながら体も心も元気になる健康法を体験を交えながらわかりやすくお伝えします。 \n冷え・むくみ・肩こり・腰痛にも効果のあるおへそと腸の健康講座、お試しください。 \n①14:30～、②16:30～　ご希望の時間をお選びください。 \n[event-button]
URL:https://ilchibrainyoga-ikebukuro.com/event/%e8%bf%bd%e5%8a%a0%e9%96%8b%e5%82%ac%ef%bc%81%e8%85%b8%e3%81%a8%e3%81%8a%e3%81%b8%e3%81%9d%e3%81%ae%e5%81%a5%e5%ba%b7%e8%ac%9b%e5%ba%a7%e2%99%aa/
LOCATION:イルチブレインヨガ池袋スタジオ\, 東京都 豊島区 東池袋 1-15-1 菱山ビル 8階\, 日本
END:VEVENT
BEGIN:VEVENT
DTSTART;TZID=Asia/Tokyo:20160727T140000
DTEND;TZID=Asia/Tokyo:20160727T180000
DTSTAMP:20260422T102417
CREATED:20160718T191752Z
LAST-MODIFIED:20160718T191752Z
UID:637-1469628000-1469642400@ilchibrainyoga-ikebukuro.com
SUMMARY:追加開催！腸とおへその健康講座♪
DESCRIPTION:体の中心にあるおへそ。 \n普段どくらいおへそに関心をもっていますか。実はおへそには大きな秘密があったのです。 \nお母さんのおなかの中で酸素や栄養をもらうおへそ。 \n役目は終わったと思われがちですが、実は、内臓やリンパ節、神経が集まった「健康ボタン」だったのです！ \nおへそをほぐすと、全身ぽかぽかすっきり！ \nおへその周りはセロトニンがうまれる腸に囲まれています。おへそと腸で驚くべき効果を体感きます。 \nおへそ相もみながら体も心も元気になる健康法を体験を交えながらわかりやすくお伝えします。 \n冷え・むくみ・肩こり・腰痛にも効果のあるおへそと腸の健康講座、お試しください。 \n①14:30～、②16:30～　ご希望の時間をお選びください。 \n[event-button]
URL:https://ilchibrainyoga-ikebukuro.com/event/%e8%bf%bd%e5%8a%a0%e9%96%8b%e5%82%ac%ef%bc%81%e8%85%b8%e3%81%a8%e3%81%8a%e3%81%b8%e3%81%9d%e3%81%ae%e5%81%a5%e5%ba%b7%e8%ac%9b%e5%ba%a7%e2%99%aa-2/
LOCATION:イルチブレインヨガ池袋スタジオ\, 東京都 豊島区 東池袋 1-15-1 菱山ビル 8階\, 日本
END:VEVENT
END:VCALENDAR