BEGIN:VCALENDAR
VERSION:2.0
PRODID:-//イルチブレインヨガ池袋スタジオ - ECPv6.15.20//NONSGML v1.0//EN
CALSCALE:GREGORIAN
METHOD:PUBLISH
X-ORIGINAL-URL:https://ilchibrainyoga-ikebukuro.com
X-WR-CALDESC:イルチブレインヨガ池袋スタジオ のイベント
REFRESH-INTERVAL;VALUE=DURATION:PT1H
X-Robots-Tag:noindex
X-PUBLISHED-TTL:PT1H
BEGIN:VTIMEZONE
TZID:Asia/Tokyo
BEGIN:STANDARD
TZOFFSETFROM:+0900
TZOFFSETTO:+0900
TZNAME:JST
DTSTART:20150101T000000
END:STANDARD
END:VTIMEZONE
BEGIN:VEVENT
DTSTART;TZID=Asia/Tokyo:20160507T143000
DTEND;TZID=Asia/Tokyo:20160507T180000
DTSTAMP:20260422T112718
CREATED:20160505T142729Z
LAST-MODIFIED:20160505T142729Z
UID:591-1462631400-1462644000@ilchibrainyoga-ikebukuro.com
SUMMARY:腸、超すっきりヨガワークショップ
DESCRIPTION:腸を意識して、腸を動かす体操をしながら、かた～くなった腸を柔らかくしていきます。 \n腸がやわらかくなれば、血流もしっかりまわって全身すっきり。腸は裏切りません！ \nダイエット効果も抜群！ \n腸で分泌される幸せホルモンでゆったり癒されます。 \n＜ワークショップ＞ \n持ち物：動きやすい服装 \n体験費：1000円 \n①14：30～　②16：00～ \nご希望のお時間をお選びください。 \n特典！腸セラピーも行っています♪
URL:https://ilchibrainyoga-ikebukuro.com/event/%e8%85%b8%e3%80%81%e8%b6%85%e3%81%99%e3%81%a3%e3%81%8d%e3%82%8a%e3%83%a8%e3%82%ac%e3%83%af%e3%83%bc%e3%82%af%e3%82%b7%e3%83%a7%e3%83%83%e3%83%97-3/
LOCATION:イルチブレインヨガ池袋スタジオ\, 東京都 豊島区 東池袋 1-15-1 菱山ビル 8階\, 日本
END:VEVENT
BEGIN:VEVENT
DTSTART;TZID=Asia/Tokyo:20160510T143000
DTEND;TZID=Asia/Tokyo:20160510T180000
DTSTAMP:20260422T112718
CREATED:20160508T043534Z
LAST-MODIFIED:20160508T043534Z
UID:594-1462890600-1462903200@ilchibrainyoga-ikebukuro.com
SUMMARY:腸、超すっきりヨガワークショップ
DESCRIPTION:腸を意識して、腸を動かす体操をしながら、かた～くなった腸を柔らかくしていきます。 \n腸がやわらかくなれば、血流もしっかりまわって全身すっきり。腸は裏切りません！ \nダイエット効果も抜群！ \n腸で分泌される幸せホルモンでゆったり癒されます。 \n＜ワークショップ＞ \n持ち物：動きやすい服装 \n体験費：1000円 \n①14：30～　②16：00～ \nご希望のお時間をお選びください。 \n特典！腸セラピーも行っています♪ \n[event-button]
URL:https://ilchibrainyoga-ikebukuro.com/event/%e8%85%b8%e3%80%81%e8%b6%85%e3%81%99%e3%81%a3%e3%81%8d%e3%82%8a%e3%83%a8%e3%82%ac%e3%83%af%e3%83%bc%e3%82%af%e3%82%b7%e3%83%a7%e3%83%83%e3%83%97-4/
LOCATION:イルチブレインヨガ池袋スタジオ\, 東京都 豊島区 東池袋 1-15-1 菱山ビル 8階\, 日本
END:VEVENT
BEGIN:VEVENT
DTSTART;TZID=Asia/Tokyo:20160519T143000
DTEND;TZID=Asia/Tokyo:20160519T180000
DTSTAMP:20260422T112718
CREATED:20160508T044450Z
LAST-MODIFIED:20160508T044450Z
UID:595-1463668200-1463680800@ilchibrainyoga-ikebukuro.com
SUMMARY:腸、腸すっきりヨガワークショップ
DESCRIPTION:腸を意識して、腸を動かす体操をしながら、かた～くなった腸を柔らかくしていきます。 \n腸がやわらかくなれば、血流もしっかりまわって全身すっきり。腸は裏切りません！ \nダイエット効果も抜群！ \n腸で分泌される幸せホルモンでゆったり癒されます。 \n＜ワークショップ＞ \n持ち物：動きやすい服装 \n体験費：1000円 \n①14：30～　②16：00～ \nご希望のお時間をお選びください。 \n特典！腸セラピーも行っています♪ \n[event-button]
URL:https://ilchibrainyoga-ikebukuro.com/event/%e8%85%b8%e3%80%81%e8%85%b8%e3%81%99%e3%81%a3%e3%81%8d%e3%82%8a%e3%83%a8%e3%82%ac%e3%83%af%e3%83%bc%e3%82%af%e3%82%b7%e3%83%a7%e3%83%83%e3%83%97/
LOCATION:イルチブレインヨガ池袋スタジオ\, 東京都 豊島区 東池袋 1-15-1 菱山ビル 8階\, 日本
END:VEVENT
BEGIN:VEVENT
DTSTART;TZID=Asia/Tokyo:20160524T143000
DTEND;TZID=Asia/Tokyo:20160524T180000
DTSTAMP:20260422T112718
CREATED:20160508T044551Z
LAST-MODIFIED:20160508T044551Z
UID:596-1464100200-1464112800@ilchibrainyoga-ikebukuro.com
SUMMARY:腸、超すっきりヨガワークショップ
DESCRIPTION:腸を意識して、腸を動かす体操をしながら、かた～くなった腸を柔らかくしていきます。 \n腸がやわらかくなれば、血流もしっかりまわって全身すっきり。腸は裏切りません！ \nダイエット効果も抜群！ \n腸で分泌される幸せホルモンでゆったり癒されます。 \n＜ワークショップ＞ \n持ち物：動きやすい服装 \n体験費：1000円 \n①14：30～　②16：00～ \nご希望のお時間をお選びください。 \n特典！腸セラピーも行っています♪ \n[event-button]
URL:https://ilchibrainyoga-ikebukuro.com/event/%e8%85%b8%e3%80%81%e8%b6%85%e3%81%99%e3%81%a3%e3%81%8d%e3%82%8a%e3%83%a8%e3%82%ac%e3%83%af%e3%83%bc%e3%82%af%e3%82%b7%e3%83%a7%e3%83%83%e3%83%97-5/
LOCATION:イルチブレインヨガ池袋スタジオ\, 東京都 豊島区 東池袋 1-15-1 菱山ビル 8階\, 日本
END:VEVENT
BEGIN:VEVENT
DTSTART;TZID=Asia/Tokyo:20160528T100000
DTEND;TZID=Asia/Tokyo:20160528T190000
DTSTAMP:20260422T112718
CREATED:20160525T151121Z
LAST-MODIFIED:20160525T151121Z
UID:603-1464429600-1464462000@ilchibrainyoga-ikebukuro.com
SUMMARY:ヨガの日！ワンコイン体験会
DESCRIPTION:４と８のつく日はヨガの日。 \nワンコイン体験会を実施します！ \n500円で70分の体験がまるまるできます。 \n脳を活性化させ、体を無理なくほぐす体操から、体の自然なリズムに合わせ細胞の振動を整える脳波振動トレーニング。 \n最後は呼吸と瞑想で深くリラックス。 \n体験受付中！ご希望の時間はwebまたはお電話でお知らせください。 \nお待ちしてます♪
URL:https://ilchibrainyoga-ikebukuro.com/event/%e3%83%a8%e3%82%ac%e3%81%ae%e6%97%a5%ef%bc%81%e3%83%af%e3%83%b3%e3%82%b3%e3%82%a4%e3%83%b3%e4%bd%93%e9%a8%93%e4%bc%9a-3/
LOCATION:イルチブレインヨガ池袋スタジオ\, 東京都 豊島区 東池袋 1-15-1 菱山ビル 8階\, 日本
END:VEVENT
END:VCALENDAR