BEGIN:VCALENDAR
VERSION:2.0
PRODID:-//イルチブレインヨガ池袋スタジオ - ECPv6.15.20//NONSGML v1.0//EN
CALSCALE:GREGORIAN
METHOD:PUBLISH
X-ORIGINAL-URL:https://ilchibrainyoga-ikebukuro.com
X-WR-CALDESC:イルチブレインヨガ池袋スタジオ のイベント
REFRESH-INTERVAL;VALUE=DURATION:PT1H
X-Robots-Tag:noindex
X-PUBLISHED-TTL:PT1H
BEGIN:VTIMEZONE
TZID:Asia/Tokyo
BEGIN:STANDARD
TZOFFSETFROM:+0900
TZOFFSETTO:+0900
TZNAME:JST
DTSTART:20150101T000000
END:STANDARD
END:VTIMEZONE
BEGIN:VEVENT
DTSTART;TZID=Asia/Tokyo:20160412T143000
DTEND;TZID=Asia/Tokyo:20160412T180000
DTSTAMP:20260422T112740
CREATED:20160406T121500Z
LAST-MODIFIED:20160406T121500Z
UID:567-1460471400-1460484000@ilchibrainyoga-ikebukuro.com
SUMMARY:腸、超すっきりヨガワークショップ
DESCRIPTION:腸を意識して、腸を動かす体操をしながら、かた～くなった腸を柔らかくしていきます。 \n腸がやわらかくなれば、血流もしっかりまわって全身すっきり。腸は裏切りません！ \nダイエット効果も抜群！ \n腸で分泌される幸せホルモンでゆったり癒されます。 \n＜ワークショップ＞ \n持ち物：動きやすい服装 \n体験費：1000円 \n①14：30～　②16：00～ \nご希望のお時間をお選びください。 \n特典！腸セラピーも行っています♪
URL:https://ilchibrainyoga-ikebukuro.com/event/%e8%85%b8%e3%80%81%e8%b6%85%e3%81%99%e3%81%a3%e3%81%8d%e3%82%8a%e3%83%a8%e3%82%ac%e3%83%af%e3%83%bc%e3%82%af%e3%82%b7%e3%83%a7%e3%83%83%e3%83%97/
LOCATION:イルチブレインヨガ池袋スタジオ\, 東京都 豊島区 東池袋 1-15-1 菱山ビル 8階\, 日本
END:VEVENT
BEGIN:VEVENT
DTSTART;TZID=Asia/Tokyo:20160416T143000
DTEND;TZID=Asia/Tokyo:20160416T180000
DTSTAMP:20260422T112740
CREATED:20160406T121654Z
LAST-MODIFIED:20160406T121654Z
UID:568-1460817000-1460829600@ilchibrainyoga-ikebukuro.com
SUMMARY:腸、超すっきりヨガワークショップ
DESCRIPTION:腸を意識して、腸を動かす体操をしながら、かた～くなった腸を柔らかくしていきます。 \n腸がやわらかくなれば、血流もしっかりまわって全身すっきり。腸は裏切りません！ \nダイエット効果も抜群！ \n腸で分泌される幸せホルモンでゆったり癒されます。 \n＜ワークショップ＞ \n持ち物：動きやすい服装 \n体験費：1000円 \n①14：30～　②16：00～ \nご希望のお時間をお選びください。 \n特典！腸セラピーも行っています♪
URL:https://ilchibrainyoga-ikebukuro.com/event/%e8%85%b8%e3%80%81%e8%b6%85%e3%81%99%e3%81%a3%e3%81%8d%e3%82%8a%e3%83%a8%e3%82%ac%e3%83%af%e3%83%bc%e3%82%af%e3%82%b7%e3%83%a7%e3%83%83%e3%83%97-2/
LOCATION:イルチブレインヨガ池袋スタジオ\, 東京都 豊島区 東池袋 1-15-1 菱山ビル 8階\, 日本
END:VEVENT
BEGIN:VEVENT
DTSTART;TZID=Asia/Tokyo:20160424T100000
DTEND;TZID=Asia/Tokyo:20160424T170000
DTSTAMP:20260422T112740
CREATED:20160423T050651Z
LAST-MODIFIED:20160423T050651Z
UID:585-1461492000-1461517200@ilchibrainyoga-ikebukuro.com
SUMMARY:ヨガの日ワンコイン体験会
DESCRIPTION:４と８のつく日はヨガの日。 \nワンコイン体験会継続中！ \n500円で70分の体験がまるまるできます。 \n脳を活性化させ、体を無理なくほぐす体操から、体の自然なリズムに合わせ細胞の振動を整える脳波振動トレーニング。 \n最後は呼吸と瞑想で深くリラックス。 \n体験受付中！ご希望の時間はwebまたはお電話でお知らせください。 \nお待ちしてます♪
URL:https://ilchibrainyoga-ikebukuro.com/event/%e3%83%a8%e3%82%ac%e3%81%ae%e6%97%a5%e3%83%af%e3%83%b3%e3%82%b3%e3%82%a4%e3%83%b3%e4%bd%93%e9%a8%93%e4%bc%9a/
LOCATION:イルチブレインヨガ池袋スタジオ\, 東京都 豊島区 東池袋 1-15-1 菱山ビル 8階\, 日本
END:VEVENT
BEGIN:VEVENT
DTSTART;TZID=Asia/Tokyo:20160424T140000
DTEND;TZID=Asia/Tokyo:20160424T170000
DTSTAMP:20260422T112740
CREATED:20160410T025842Z
LAST-MODIFIED:20160410T025842Z
UID:570-1461506400-1461517200@ilchibrainyoga-ikebukuro.com
SUMMARY:好評につき追加開催！腸、超すっきりヨガワークショップ
DESCRIPTION:腸を意識して、腸を動かす体操をしながら、かた～くなった腸を柔らかくしていきます。 \n腸がやわらかくなれば、血流もしっかりまわって全身すっきり。腸は裏切りません！ \nダイエット効果も抜群！ \n腸で分泌される幸せホルモンでゆったり癒されます。 \n＜ワークショップ＞ \n持ち物：動きやすい服装 \n体験費：1000円 \n①14：30～　②16：00～ \nご希望のお時間をお選びください。 \n特典！腸セラピーも行っています♪
URL:https://ilchibrainyoga-ikebukuro.com/event/%e5%a5%bd%e8%a9%95%e3%81%ab%e3%81%a4%e3%81%8d%e8%bf%bd%e5%8a%a0%e9%96%8b%e5%82%ac%ef%bc%81%e8%85%b8%e3%80%81%e8%b6%85%e3%81%99%e3%81%a3%e3%81%8d%e3%82%8a%e3%83%a8%e3%82%ac%e3%83%af%e3%83%bc%e3%82%af/
LOCATION:イルチブレインヨガ池袋スタジオ\, 東京都 豊島区 東池袋 1-15-1 菱山ビル 8階\, 日本
END:VEVENT
BEGIN:VEVENT
DTSTART;TZID=Asia/Tokyo:20160428T100000
DTEND;TZID=Asia/Tokyo:20160428T190000
DTSTAMP:20260422T112740
CREATED:20160423T050607Z
LAST-MODIFIED:20160423T050607Z
UID:584-1461837600-1461870000@ilchibrainyoga-ikebukuro.com
SUMMARY:４と８の日ワンコイン体験会
DESCRIPTION:４と８のつく日はヨガの日。 \nワンコイン体験会継続中！ \n500円で70分の体験がまるまるできます。 \n脳を活性化させ、体を無理なくほぐす体操から、体の自然なリズムに合わせ細胞の振動を整える脳波振動トレーニング。 \n最後は呼吸と瞑想で深くリラックス。 \n体験受付中！ご希望の時間はwebまたはお電話でお知らせください。 \nお待ちしてます♪
URL:https://ilchibrainyoga-ikebukuro.com/event/%ef%bc%94%e3%81%a8%ef%bc%98%e3%81%ae%e6%97%a5%e3%83%af%e3%83%b3%e3%82%b3%e3%82%a4%e3%83%b3%e4%bd%93%e9%a8%93%e4%bc%9a/
LOCATION:イルチブレインヨガ池袋スタジオ\, 東京都 豊島区 東池袋 1-15-1 菱山ビル 8階\, 日本
END:VEVENT
BEGIN:VEVENT
DTSTART;TZID=Asia/Tokyo:20160430T140000
DTEND;TZID=Asia/Tokyo:20160430T170000
DTSTAMP:20260422T112740
CREATED:20160410T030739Z
LAST-MODIFIED:20160410T030739Z
UID:572-1462024800-1462035600@ilchibrainyoga-ikebukuro.com
SUMMARY:追加開催！腸、超すっきりヨガワークショップ
DESCRIPTION:腸を意識して、腸を動かす体操をしながら、かた～くなった腸を柔らかくしていきます。 \n腸がやわらかくなれば、血流もしっかりまわって全身すっきり。腸は裏切りません！ \nダイエット効果も抜群！ \n腸で分泌される幸せホルモンでゆったり癒されます。 \n＜ワークショップ＞ \n持ち物：動きやすい服装 \n体験費：1000円 \n①14：30～　②16：00～ \nご希望のお時間をお選びください。 \n特典！腸セラピーも行っています♪
URL:https://ilchibrainyoga-ikebukuro.com/event/%e8%bf%bd%e5%8a%a0%e9%96%8b%e5%82%ac%ef%bc%81%e8%85%b8%e3%80%81%e8%b6%85%e3%81%99%e3%81%a3%e3%81%8d%e3%82%8a%e3%83%a8%e3%82%ac%e3%83%af%e3%83%bc%e3%82%af%e3%82%b7%e3%83%a7%e3%83%83%e3%83%97/
LOCATION:イルチブレインヨガ池袋スタジオ\, 東京都 豊島区 東池袋 1-15-1 菱山ビル 8階\, 日本
END:VEVENT
END:VCALENDAR