BEGIN:VCALENDAR
VERSION:2.0
PRODID:-//イルチブレインヨガ池袋スタジオ - ECPv6.15.20//NONSGML v1.0//EN
CALSCALE:GREGORIAN
METHOD:PUBLISH
X-ORIGINAL-URL:https://ilchibrainyoga-ikebukuro.com
X-WR-CALDESC:イルチブレインヨガ池袋スタジオ のイベント
REFRESH-INTERVAL;VALUE=DURATION:PT1H
X-Robots-Tag:noindex
X-PUBLISHED-TTL:PT1H
BEGIN:VTIMEZONE
TZID:Asia/Tokyo
BEGIN:STANDARD
TZOFFSETFROM:+0900
TZOFFSETTO:+0900
TZNAME:JST
DTSTART:20140101T000000
END:STANDARD
END:VTIMEZONE
BEGIN:VEVENT
DTSTART;TZID=Asia/Tokyo:20150906T140000
DTEND;TZID=Asia/Tokyo:20150906T150000
DTSTAMP:20260422T103335
CREATED:20150902T025423Z
LAST-MODIFIED:20150902T025423Z
UID:413-1441548000-1441551600@ilchibrainyoga-ikebukuro.com
SUMMARY:集中力Up!親子ヨガ
DESCRIPTION:お子さまも一緒に楽しくヨガしませんか？ \nブレインヨガが子どもの成長にもよいことがアメリカでも報道されました。 \nヨガといっても難しいポーズは一切なし。体・心・精神のバランスをとるために、脳の活性化を促す簡単な体操がいっぱいです！ \n脳の仕組みや使い方を簡単にご案内し、一緒に楽しく遊びながら、集中力がアップ！一緒に遊ぶから親子の新密度も愛情も深まります。 \n愛情は脳内の幸せホルモンを増加。脳波もおちて、深いリラックスができます。 \n楽しく元気に親子でブレインアップ♪　ママ友、ご近所さん一緒にお気軽にお出かけください＾＾　 \n参加費：親子一組1000円。お一人様のご参加も歓迎です＾＾ \n●14：00～15：00　、受付13:45 \n[event-button]
URL:https://ilchibrainyoga-ikebukuro.com/event/%e9%9b%86%e4%b8%ad%e5%8a%9bup%e8%a6%aa%e5%ad%90%e3%83%a8%e3%82%ac/
LOCATION:イルチブレインヨガ池袋スタジオ\, 東京都 豊島区 東池袋 1-15-1 菱山ビル 8階\, 日本
END:VEVENT
BEGIN:VEVENT
DTSTART;TZID=Asia/Tokyo:20150910T140000
DTEND;TZID=Asia/Tokyo:20150910T150000
DTSTAMP:20260422T103335
CREATED:20150909T050537Z
LAST-MODIFIED:20150909T050537Z
UID:416-1441893600-1441897200@ilchibrainyoga-ikebukuro.com
SUMMARY:スキンシップ120% 親子ヨガ♡
DESCRIPTION:お子さまも一緒に楽しくヨガしませんか？ \nブレインヨガが子どもの成長にもよいことがアメリカでも報道されました。 \nヨガといっても難しいポーズは一切なし。体・心・精神のバランスをとるために、脳の活性化を促す簡単な体操がいっぱいです！ \n脳の仕組みや使い方を簡単にご案内し、一緒に楽しく遊びながら、集中力がアップ！一緒に遊ぶから親子の新密度も愛情も深まります。 \n愛情は脳内の幸せホルモンを増加。脳波もおちて、深いリラックスができます。 \n楽しく元気に親子でブレインアップ♪　ママ友、ご近所さん一緒にお気軽にお出かけください＾＾ \n参加費：親子一組1000円。お一人様のご参加も歓迎です＾＾ \n●14：00～15：00　、受付13:45 \n[event-button]
URL:https://ilchibrainyoga-ikebukuro.com/event/%e3%82%b9%e3%82%ad%e3%83%b3%e3%82%b7%e3%83%83%e3%83%97120-%e8%a6%aa%e5%ad%90%e3%83%a8%e3%82%ac%e2%99%a1/
LOCATION:イルチブレインヨガ池袋スタジオ\, 東京都 豊島区 東池袋 1-15-1 菱山ビル 8階\, 日本
END:VEVENT
BEGIN:VEVENT
DTSTART;TZID=Asia/Tokyo:20150913T140000
DTEND;TZID=Asia/Tokyo:20150913T160000
DTSTAMP:20260422T103335
CREATED:20150909T044709Z
LAST-MODIFIED:20150909T044709Z
UID:415-1442152800-1442160000@ilchibrainyoga-ikebukuro.com
SUMMARY:腸デトックスで美腸に！
DESCRIPTION:第二の脳と呼ばれる腸。\n腸を活性化させることは脳の活性化にもつながります。\n自然治癒力を高めるソーラーボディメソッドで腸から元気に！\n太陽のようにエネルギーたっぷり、周りも明るくする心と体を手にいれてみませんか？ \nソーラーボディメソッドは、自然治癒力を高めることで、自らの本来の健康を取り戻し、心も体も軽く明るくする新感覚のヨガ体操です。 \n腸の状態をカウンセリングし、腸マッサージやソーラーボディエクササイズとして、簡単な動きだけど、心と体に効く体操やメンタルサポートを通し、体も心もほぐしていきます。 \nどなたでも参加可能ですので、ぜひお試しください！ \n[event-button]
URL:https://ilchibrainyoga-ikebukuro.com/event/%e8%85%b8%e3%83%87%e3%83%88%e3%83%83%e3%82%af%e3%82%b9%e3%81%a7%e7%be%8e%e8%85%b8%e3%81%ab%ef%bc%81/
LOCATION:イルチブレインヨガ池袋スタジオ\, 東京都 豊島区 東池袋 1-15-1 菱山ビル 8階\, 日本
END:VEVENT
BEGIN:VEVENT
DTSTART;TZID=Asia/Tokyo:20150919T170000
DTEND;TZID=Asia/Tokyo:20150919T190000
DTSTAMP:20260422T103335
CREATED:20150916T115518Z
LAST-MODIFIED:20150916T115518Z
UID:429-1442682000-1442689200@ilchibrainyoga-ikebukuro.com
SUMMARY:つら～い肩こり解消ワークショップ
DESCRIPTION:つらい四十肩や五十肩。 \nつねに肩こりがなくならない重度の肩こりに悩んでいる方、毎日の痛み、つらいですね。 \nそんな肩の痛みも、間接を大きくまわす運動や、体の声をしっかり聞いて適切な動きをすることで徐々にやわらげることが可能です。 \n自分で治すことを目的に、自然治癒力をアップすることを意識するから、無理なく効果的。 \nそして楽しくエクササイズできることが、続けていける秘訣です。 \n一回のトレーニングでも効果を実感していただけます。 \nブレインヨガの肩こり解消トレーニング、ぜひお試しください！ \n[event-button]
URL:https://ilchibrainyoga-ikebukuro.com/event/%e3%81%a4%e3%82%89%ef%bd%9e%e3%81%84%e8%82%a9%e3%81%93%e3%82%8a%e8%a7%a3%e6%b6%88%e3%83%af%e3%83%bc%e3%82%af%e3%82%b7%e3%83%a7%e3%83%83%e3%83%97/
LOCATION:イルチブレインヨガ池袋スタジオ\, 東京都 豊島区 東池袋 1-15-1 菱山ビル 8階\, 日本
END:VEVENT
BEGIN:VEVENT
DTSTART;TZID=Asia/Tokyo:20150920T140000
DTEND;TZID=Asia/Tokyo:20150920T150000
DTSTAMP:20260422T103335
CREATED:20150909T050743Z
LAST-MODIFIED:20150909T050743Z
UID:417-1442757600-1442761200@ilchibrainyoga-ikebukuro.com
SUMMARY:楽しく集中力up！親子でヨガ♡
DESCRIPTION:お子さまも一緒に楽しくヨガしませんか？ \nブレインヨガが子どもの成長にもよいことがアメリカでも報道されました。 \nヨガといっても難しいポーズは一切なし。体・心・精神のバランスをとるために、脳の活性化を促す簡単な体操がいっぱいです！ \n脳の仕組みや使い方を簡単にご案内し、一緒に楽しく遊びながら、集中力がアップ！一緒に遊ぶから親子の新密度も愛情も深まります。 \n愛情は脳内の幸せホルモンを増加。脳波もおちて、深いリラックスができます。 \n楽しく元気に親子でブレインアップ♪　ママ友、ご近所さん一緒にお気軽にお出かけください＾＾ \n参加費：親子一組1000円。お一人様のご参加も歓迎です＾＾ \n●14：00～15：00　、受付13:45 \n[event-button]
URL:https://ilchibrainyoga-ikebukuro.com/event/%e6%a5%bd%e3%81%97%e3%81%8f%e9%9b%86%e4%b8%ad%e5%8a%9bup%ef%bc%81%e8%a6%aa%e5%ad%90%e3%81%a7%e3%83%a8%e3%82%ac%e2%99%a1/
LOCATION:イルチブレインヨガ池袋スタジオ\, 東京都 豊島区 東池袋 1-15-1 菱山ビル 8階\, 日本
END:VEVENT
BEGIN:VEVENT
DTSTART;TZID=Asia/Tokyo:20150924T170000
DTEND;TZID=Asia/Tokyo:20150924T183000
DTSTAMP:20260422T103335
CREATED:20150917T093744Z
LAST-MODIFIED:20150917T093744Z
UID:436-1443114000-1443119400@ilchibrainyoga-ikebukuro.com
SUMMARY:美腸になる！「腸デトックス」
DESCRIPTION:第二の脳と呼ばれる腸。\n腸を活性化させることは脳の活性化にもつながります。\n自然治癒力を高めるソーラーボディメソッドで腸から元気に！\n太陽のようにエネルギーたっぷり、周りも明るくする心と体を手にいれてみませんか？ \nソーラーボディメソッドは、自然治癒力を高めることで、自らの本来の健康を取り戻し、心も体も軽く明るくする新感覚のヨガ体操です。 \n腸の状態をカウンセリングし、腸マッサージやソーラーボディエクササイズを通して、心と体を元気に。 \n腸から、中から変わる、すっきりとした健康体験。 \nどなたでも参加可能ですので、ぜひお試しください！ \n[event-button]
URL:https://ilchibrainyoga-ikebukuro.com/event/%e7%be%8e%e8%85%b8%e3%81%ab%e3%81%aa%e3%82%8b%ef%bc%81%e3%80%8c%e8%85%b8%e3%83%87%e3%83%88%e3%83%83%e3%82%af%e3%82%b9%e3%80%8d/
LOCATION:イルチブレインヨガ池袋スタジオ\, 東京都 豊島区 東池袋 1-15-1 菱山ビル 8階\, 日本
END:VEVENT
BEGIN:VEVENT
DTSTART;TZID=Asia/Tokyo:20150930T140000
DTEND;TZID=Asia/Tokyo:20150930T153000
DTSTAMP:20260422T103335
CREATED:20150917T093928Z
LAST-MODIFIED:20150919T233105Z
UID:437-1443621600-1443627000@ilchibrainyoga-ikebukuro.com
SUMMARY:美腸になる！「腸デトックス」
DESCRIPTION:第二の脳と呼ばれる腸。\n腸を活性化させることは脳の活性化にもつながります。\n自然治癒力を高めるソーラーボディメソッドで腸から元気に！\n太陽のようにエネルギーたっぷり、周りも明るくする心と体を手にいれてみませんか？ \nソーラーボディメソッドは、自然治癒力を高めることで、自らの本来の健康を取り戻し、心も体も軽く明るくする新感覚のヨガ体操です。 \n腸の状態をカウンセリングし、腸マッサージやソーラーボディエクササイズを通して、心と体を元気に。 \n腸から、中から変わる、すっきりとした健康体験。 \nどなたでも参加可能ですので、ぜひお試しください！ \n[event-button]
URL:https://ilchibrainyoga-ikebukuro.com/event/%e7%be%8e%e8%85%b8%e3%81%ab%e3%81%aa%e3%82%8b%ef%bc%81%e3%80%8c%e8%85%b8%e3%83%87%e3%83%88%e3%83%83%e3%82%af%e3%82%b9%e3%80%8d-2/
LOCATION:イルチブレインヨガ池袋スタジオ\, 東京都 豊島区 東池袋 1-15-1 菱山ビル 8階\, 日本
END:VEVENT
END:VCALENDAR