BEGIN:VCALENDAR
VERSION:2.0
PRODID:-//イルチブレインヨガ池袋スタジオ - ECPv6.15.20//NONSGML v1.0//EN
CALSCALE:GREGORIAN
METHOD:PUBLISH
X-WR-CALNAME:イルチブレインヨガ池袋スタジオ
X-ORIGINAL-URL:https://ilchibrainyoga-ikebukuro.com
X-WR-CALDESC:イルチブレインヨガ池袋スタジオ のイベント
REFRESH-INTERVAL;VALUE=DURATION:PT1H
X-Robots-Tag:noindex
X-PUBLISHED-TTL:PT1H
BEGIN:VTIMEZONE
TZID:Asia/Tokyo
BEGIN:STANDARD
TZOFFSETFROM:+0900
TZOFFSETTO:+0900
TZNAME:JST
DTSTART:20140101T000000
END:STANDARD
END:VTIMEZONE
BEGIN:VEVENT
DTSTART;TZID=Asia/Tokyo:20150610T100000
DTEND;TZID=Asia/Tokyo:20150610T190000
DTSTAMP:20260422T112657
CREATED:20150609T072520Z
LAST-MODIFIED:20150609T072520Z
UID:382-1433930400-1433962800@ilchibrainyoga-ikebukuro.com
SUMMARY:ワンコイン体験デー
DESCRIPTION:1回3\,000円のトレーニングがなんと1コイン、500円！ \n末尾0の日をお見逃しなく！ \nトレーニング体験は1回70分のクラス。 \n①やさしく効く！：ブレイン体操で脳もカラダもストレッチ \n②楽しく解放！：振動やダンスなどで体の細胞にまで働きかけ \n③深い呼吸！：お腹の底までおりる呼吸を体験して、脳に酸素をいっぱい送ります \n④エネルギーを感じる瞑想：エネルギーの感じを感じることで目にみえないものを認めて、なりたい自分をひきよせる力をつけます \nどなたでも、体に合わせて無理なくトレーニングできて効果バツグン。 \n一度ご体験ください＾＾ \n※クラスお時間は午前10:00～、午後2：00～、夜7：00～からお選びいただけます。詳細はご予約の際にお問合せください。 \n  \n[event-button]
URL:https://ilchibrainyoga-ikebukuro.com/event/%e3%83%af%e3%83%b3%e3%82%b3%e3%82%a4%e3%83%b3%e4%bd%93%e9%a8%93%e3%83%87%e3%83%bc/
LOCATION:イルチブレインヨガ池袋スタジオ\, 東京都 豊島区 東池袋 1-15-1 菱山ビル 8階\, 日本
END:VEVENT
BEGIN:VEVENT
DTSTART;TZID=Asia/Tokyo:20150614T100000
DTEND;TZID=Asia/Tokyo:20150614T120000
DTSTAMP:20260422T112657
CREATED:20150609T071259Z
LAST-MODIFIED:20150609T071259Z
UID:376-1434276000-1434283200@ilchibrainyoga-ikebukuro.com
SUMMARY:4と8のつく日はヨガの日！お得な体験デー
DESCRIPTION:今月のヨガの日特典は、「腸マッサージクーポン(3\,000円相当)」プレゼント!!! \nさらに、チラシご持参の方、もしくはwebから予約された方(webを見た！でもOK！)は、1回3\,000円の体験が1\,000円に割引！ \nトレーニング体験は1回70分のクラス。 \n①やさしく効く！：ブレイン体操で脳もカラダもストレッチ \n②楽しく解放！：振動やダンスなどで体の細胞にまで働きかけ \n③深い呼吸！：お腹の底までおりる呼吸を体験して、脳に酸素をいっぱい送ります \n④エネルギーを感じる瞑想：エネルギーの感じを感じることで目にみえないものを認めて、なりたい自分をひきよせる力をつけます \nどなたでも、体に合わせて無理なくトレーニングできて効果バツグン。 \n一度ご体験ください＾＾ \n[event-button] \n  \n 
URL:https://ilchibrainyoga-ikebukuro.com/event/4%e3%81%a88%e3%81%ae%e3%81%a4%e3%81%8f%e6%97%a5%e3%81%af%e3%83%a8%e3%82%ac%e3%81%ae%e6%97%a5%ef%bc%81%e3%81%8a%e5%be%97%e3%81%aa%e4%bd%93%e9%a8%93%e3%83%87%e3%83%bc/
LOCATION:イルチブレインヨガ池袋スタジオ\, 東京都 豊島区 東池袋 1-15-1 菱山ビル 8階\, 日本
END:VEVENT
BEGIN:VEVENT
DTSTART;TZID=Asia/Tokyo:20150614T140000
DTEND;TZID=Asia/Tokyo:20150614T160000
DTSTAMP:20260422T112657
CREATED:20150608T114048Z
LAST-MODIFIED:20150608T114946Z
UID:368-1434290400-1434297600@ilchibrainyoga-ikebukuro.com
SUMMARY:心も体もすっきり！腸デトックス
DESCRIPTION:腸のこと、普段どれだけ意識していますか？ \n実は腸は第二の脳と呼ばれるくらい神経がたくさん集まった大事な場所なのです。 \n便秘やダイエットに効くのはもちろん、腸をほぐすと、体だけでなく心もすっきりリラックス。 \nそれは、幸せホルモンのセロトニンが腸から分泌されているから。 \n私たちの体にある大切な脳をすっきり健康にして、心もカラダも元気になりましょう！ \nワークショップでは、脳や腸のお話を交えて簡単な体操、マッサージで腸をじっくりほぐします。 \n暖かくやわらかくなるお腹を実感してください＾＾ \n年齢問わず。どなたでも参加OK！簡単な運動のできる服装でお越しください。 \n[event-button] \n 
URL:https://ilchibrainyoga-ikebukuro.com/event/%e5%bf%83%e3%82%82%e4%bd%93%e3%82%82%e3%81%99%e3%81%a3%e3%81%8d%e3%82%8a%ef%bc%81%e8%85%b8%e3%83%87%e3%83%88%e3%83%83%e3%82%af%e3%82%b9/
LOCATION:イルチブレインヨガ池袋スタジオ\, 東京都 豊島区 東池袋 1-15-1 菱山ビル 8階\, 日本
END:VEVENT
BEGIN:VEVENT
DTSTART;TZID=Asia/Tokyo:20150617T130000
DTEND;TZID=Asia/Tokyo:20150617T143000
DTSTAMP:20260422T112657
CREATED:20150608T114911Z
LAST-MODIFIED:20150608T120858Z
UID:369-1434546000-1434551400@ilchibrainyoga-ikebukuro.com
SUMMARY:ママのためのリラックスタイムヨガ♡
DESCRIPTION:いつも忙しいママさんたち。たまにはゆったりリラックスしませんか？ \n簡単なヨガ体操とヒーリングでひと時のリラックスタイムをお届けします。 \nマッサージやエステもいいけど、ちょっと体を動かして、ゆっくり呼吸するだけで簡単に十分リラックスすることができます。 \nヨガのあとは嬉しいティータイムもご用意。 \nお子様ももちろん一緒どうぞ。 \n体操できる年齢なら一緒に簡単な体操を、まだ小さいお子さんは専門の子どもブレイントレーナーが一緒に遊びます＾＾ \nママ友皆様で遊びにきてください♪ \n[event-button]
URL:https://ilchibrainyoga-ikebukuro.com/event/%e3%83%9e%e3%83%9e%e3%81%ae%e3%81%9f%e3%82%81%e3%81%ae%e3%83%aa%e3%83%a9%e3%83%83%e3%82%af%e3%82%b9%e3%82%bf%e3%82%a4%e3%83%a0%e3%83%a8%e3%82%ac%e2%99%a1/
LOCATION:イルチブレインヨガ池袋スタジオ\, 東京都 豊島区 東池袋 1-15-1 菱山ビル 8階\, 日本
END:VEVENT
BEGIN:VEVENT
DTSTART;TZID=Asia/Tokyo:20150618T100000
DTEND;TZID=Asia/Tokyo:20150618T190000
DTSTAMP:20260422T112657
CREATED:20150609T071609Z
LAST-MODIFIED:20150609T071609Z
UID:377-1434621600-1434654000@ilchibrainyoga-ikebukuro.com
SUMMARY:4と8のつく日はヨガの日！お得な体験デー
DESCRIPTION:今月のヨガの日特典は、「腸マッサージクーポン(3\,000円相当)」プレゼント!!! \nさらに、チラシご持参の方、もしくはwebから予約された方(webを見た！でもOK！)は、1回3\,000円の体験が1\,000円に割引！ \nトレーニング体験は1回70分のクラス。 \n①やさしく効く！：ブレイン体操で脳もカラダもストレッチ \n②楽しく解放！：振動やダンスなどで体の細胞にまで働きかけ \n③深い呼吸！：お腹の底までおりる呼吸を体験して、脳に酸素をいっぱい送ります \n④エネルギーを感じる瞑想：エネルギーの感じを感じることで目にみえないものを認めて、なりたい自分をひきよせる力をつけます \nどなたでも、体に合わせて無理なくトレーニングできて効果バツグン。 \n一度ご体験ください＾＾ \n※クラスお時間は午前10:00～、午後2:00～、夜7：00～からお選びいただけます。詳細はご予約の際にお問合せください。 \n  \n[event-button]
URL:https://ilchibrainyoga-ikebukuro.com/event/4%e3%81%a88%e3%81%ae%e3%81%a4%e3%81%8f%e6%97%a5%e3%81%af%e3%83%a8%e3%82%ac%e3%81%ae%e6%97%a5%ef%bc%81%e3%81%8a%e5%be%97%e3%81%aa%e4%bd%93%e9%a8%93%e3%83%87%e3%83%bc-2/
LOCATION:イルチブレインヨガ池袋スタジオ\, 東京都 豊島区 東池袋 1-15-1 菱山ビル 8階\, 日本
END:VEVENT
BEGIN:VEVENT
DTSTART;TZID=Asia/Tokyo:20150620T140000
DTEND;TZID=Asia/Tokyo:20150620T163000
DTSTAMP:20260422T112657
CREATED:20150608T120722Z
LAST-MODIFIED:20150608T120722Z
UID:372-1434808800-1434817800@ilchibrainyoga-ikebukuro.com
SUMMARY:地球人の日特別ワークショップ「カラダと地球」
DESCRIPTION:6/15は「地球人の日」。 \n地球に暮らす私たち。私たちはみな、「〇〇家の人」や「東京の人」や「日本人」である前に地球に住む地球人です。 \nたまにはじっくり地球に意識を向け、感謝をして地球を感じてみましょう。 \nワークショップでは、カラダを通して地球を感じるワークをします。地球がきれいになるように、まずは自分の中もきれいにすっきりエネルギーが通るカラダに。 \n元気になって緊張がとけた状態で、自分が地球の一部であり、地球が自分の一部である体験へとつなぎます。 \n大きなエネルギーを感じて、大きな意識で地球と自分をながめてみましょう。 \n[event-button]
URL:https://ilchibrainyoga-ikebukuro.com/event/%e5%9c%b0%e7%90%83%e4%ba%ba%e3%81%ae%e6%97%a5%e7%89%b9%e5%88%a5%e3%83%af%e3%83%bc%e3%82%af%e3%82%b7%e3%83%a7%e3%83%83%e3%83%97%e3%80%8c%e3%82%ab%e3%83%a9%e3%83%80%e3%81%a8%e5%9c%b0%e7%90%83%e3%80%8d/
LOCATION:イルチブレインヨガ池袋スタジオ\, 東京都 豊島区 東池袋 1-15-1 菱山ビル 8階\, 日本
END:VEVENT
BEGIN:VEVENT
DTSTART;TZID=Asia/Tokyo:20150621T140000
DTEND;TZID=Asia/Tokyo:20150621T160000
DTSTAMP:20260422T112657
CREATED:20150609T065858Z
LAST-MODIFIED:20150609T065858Z
UID:374-1434895200-1434902400@ilchibrainyoga-ikebukuro.com
SUMMARY:♪ダンス瞑想♪
DESCRIPTION:ノリノリ、わくわく、楽しいダンス瞑想！ \nダンスで瞑想?!と、一見全然関係ないようにみえますが、実は瞑想することの一番基本は「考えることをとめること」。 \nヨガで厳しいポーズをとったり、じっとしたりするのも、余計な考えをなくし、無になることをめざします。 \nダンスは体をおもいっきり動かすことでいろんな考え事も吹き飛びます。 \nまた、型にはまった踊りではなく、自由に体を動かすことで心身ともに解放できて、ストレスも解消！ \n楽しく、そしてリラックスもできて、自分の内面もみつめることができるダンス瞑想！ \n[event-button]
URL:https://ilchibrainyoga-ikebukuro.com/event/%e2%99%aa%e3%83%80%e3%83%b3%e3%82%b9%e7%9e%91%e6%83%b3%e2%99%aa/
LOCATION:イルチブレインヨガ池袋スタジオ\, 東京都 豊島区 東池袋 1-15-1 菱山ビル 8階\, 日本
END:VEVENT
BEGIN:VEVENT
DTSTART;TZID=Asia/Tokyo:20150624T100000
DTEND;TZID=Asia/Tokyo:20150624T190000
DTSTAMP:20260422T112657
CREATED:20150609T071806Z
LAST-MODIFIED:20150609T071806Z
UID:378-1435140000-1435172400@ilchibrainyoga-ikebukuro.com
SUMMARY:4と8のつく日はヨガの日！お得な体験デー
DESCRIPTION:今月のヨガの日特典は、「腸マッサージクーポン(3\,000円相当)」プレゼント!!! \nさらに、チラシご持参の方、もしくはwebから予約された方(webを見た！でもOK！)は、1回3\,000円の体験が1\,000円に割引！ \nトレーニング体験は1回70分のクラス。 \n①やさしく効く！：ブレイン体操で脳もカラダもストレッチ \n②楽しく解放！：振動やダンスなどで体の細胞にまで働きかけ \n③深い呼吸！：お腹の底までおりる呼吸を体験して、脳に酸素をいっぱい送ります \n④エネルギーを感じる瞑想：エネルギーの感じを感じることで目にみえないものを認めて、なりたい自分をひきよせる力をつけます \nどなたでも、体に合わせて無理なくトレーニングできて効果バツグン。 \n一度ご体験ください＾＾ \n※クラスお時間は午前10:00～、午後2：00～、夜7：00～からお選びいただけます。詳細はご予約の際にお問合せください。 \n  \n[event-button]
URL:https://ilchibrainyoga-ikebukuro.com/event/4%e3%81%a88%e3%81%ae%e3%81%a4%e3%81%8f%e6%97%a5%e3%81%af%e3%83%a8%e3%82%ac%e3%81%ae%e6%97%a5%ef%bc%81%e3%81%8a%e5%be%97%e3%81%aa%e4%bd%93%e9%a8%93%e3%83%87%e3%83%bc-3/
LOCATION:イルチブレインヨガ池袋スタジオ\, 東京都 豊島区 東池袋 1-15-1 菱山ビル 8階\, 日本
END:VEVENT
BEGIN:VEVENT
DTSTART;TZID=Asia/Tokyo:20150624T130000
DTEND;TZID=Asia/Tokyo:20150624T143000
DTSTAMP:20260422T112657
CREATED:20150608T115230Z
LAST-MODIFIED:20150608T120806Z
UID:371-1435150800-1435156200@ilchibrainyoga-ikebukuro.com
SUMMARY:ママのためのリラックスタイムヨガ♡
DESCRIPTION:いつも忙しいママさんたち。たまにはゆったりリラックスしませんか？ \n簡単なヨガ体操とヒーリングでひと時のリラックスタイムをお届けします。 \nマッサージやエステもいいけど、ちょっと体を動かして、ゆっくり呼吸するだけで簡単に十分リラックスすることができます。 \nヨガのあとは嬉しいティータイムもご用意。 \nお子様ももちろん一緒どうぞ。 \n体操できる年齢なら一緒に簡単な体操を、まだ小さいお子さんは専門の子どもブレイントレーナーが一緒に遊びます＾＾ \nママ友皆様で遊びにきてください♪ \n[event-button]
URL:https://ilchibrainyoga-ikebukuro.com/event/%e3%83%9e%e3%83%9e%e3%81%ae%e3%81%9f%e3%82%81%e3%81%ae%e3%83%aa%e3%83%a9%e3%83%83%e3%82%af%e3%82%b9%e3%82%bf%e3%82%a4%e3%83%a0%e3%83%a8%e3%82%ac%e2%99%a1-2/
LOCATION:イルチブレインヨガ池袋スタジオ\, 東京都 豊島区 東池袋 1-15-1 菱山ビル 8階\, 日本
END:VEVENT
BEGIN:VEVENT
DTSTART;TZID=Asia/Tokyo:20150628T100000
DTEND;TZID=Asia/Tokyo:20150628T160000
DTSTAMP:20260422T112657
CREATED:20150609T072100Z
LAST-MODIFIED:20150609T072100Z
UID:381-1435485600-1435507200@ilchibrainyoga-ikebukuro.com
SUMMARY:4と8のつく日はヨガの日！お得な体験デー
DESCRIPTION:今月のヨガの日特典は、「腸マッサージクーポン(3\,000円相当)」プレゼント!!! \nさらに、チラシご持参の方、もしくはwebから予約された方(webを見た！でもOK！)は、1回3\,000円の体験が1\,000円に割引！ \nトレーニング体験は1回70分のクラス。 \n①やさしく効く！：ブレイン体操で脳もカラダもストレッチ \n②楽しく解放！：振動やダンスなどで体の細胞にまで働きかけ \n③深い呼吸！：お腹の底までおりる呼吸を体験して、脳に酸素をいっぱい送ります \n④エネルギーを感じる瞑想：エネルギーの感じを感じることで目にみえないものを認めて、なりたい自分をひきよせる力をつけます \nどなたでも、体に合わせて無理なくトレーニングできて効果バツグン。 \n一度ご体験ください＾＾ \n※クラスお時間は午前10:00～、午後2：00～からお選びいただけます。詳細はご予約の際にお問合せください。 \n  \n[event-button]
URL:https://ilchibrainyoga-ikebukuro.com/event/4%e3%81%a88%e3%81%ae%e3%81%a4%e3%81%8f%e6%97%a5%e3%81%af%e3%83%a8%e3%82%ac%e3%81%ae%e6%97%a5%ef%bc%81%e3%81%8a%e5%be%97%e3%81%aa%e4%bd%93%e9%a8%93%e3%83%87%e3%83%bc-4/
LOCATION:イルチブレインヨガ池袋スタジオ\, 東京都 豊島区 東池袋 1-15-1 菱山ビル 8階\, 日本
END:VEVENT
END:VCALENDAR