BEGIN:VCALENDAR
VERSION:2.0
PRODID:-//イルチブレインヨガ池袋スタジオ - ECPv6.15.20//NONSGML v1.0//EN
CALSCALE:GREGORIAN
METHOD:PUBLISH
X-ORIGINAL-URL:https://ilchibrainyoga-ikebukuro.com
X-WR-CALDESC:イルチブレインヨガ池袋スタジオ のイベント
REFRESH-INTERVAL;VALUE=DURATION:PT1H
X-Robots-Tag:noindex
X-PUBLISHED-TTL:PT1H
BEGIN:VTIMEZONE
TZID:Asia/Tokyo
BEGIN:STANDARD
TZOFFSETFROM:+0900
TZOFFSETTO:+0900
TZNAME:JST
DTSTART:20130101T000000
END:STANDARD
END:VTIMEZONE
BEGIN:VEVENT
DTSTART;TZID=Asia/Tokyo:20141207T023000
DTEND;TZID=Asia/Tokyo:20141207T154000
DTSTAMP:20260422T101720
CREATED:20141207T004520Z
LAST-MODIFIED:20141207T004520Z
UID:173-1417919400-1417966800@ilchibrainyoga-ikebukuro.com
SUMMARY:一度上がると免疫力がＵＰ↑します。「皿まわしエクササイズ」
DESCRIPTION:◆内容\n皿まわし、気体操、呼吸 \n◆期待できる効果\n冷え性改善、肩こり防止・体をやわらかく・ダイエット \n◆対象者\n健康が気になる方・体をやわらかくしたい方・無理なくダイエットしたい方 \n◆持ち物\n動きやすい服装、タオル、飲み物 \n[event-button]
URL:https://ilchibrainyoga-ikebukuro.com/event/%e4%b8%80%e5%ba%a6%e4%b8%8a%e3%81%8c%e3%82%8b%e3%81%a8%e5%85%8d%e7%96%ab%e5%8a%9b%e3%81%8c%ef%bd%95%ef%bd%90%e2%86%91%e3%81%97%e3%81%be%e3%81%99%e3%80%82%e3%80%8c%e7%9a%bf%e3%81%be%e3%82%8f%e3%81%97/
LOCATION:イルチブレインヨガ池袋スタジオ\, 東京都 豊島区 東池袋 1-15-1 菱山ビル 8階\, 日本
END:VEVENT
BEGIN:VEVENT
DTSTART;TZID=Asia/Tokyo:20141209T143000
DTEND;TZID=Asia/Tokyo:20141209T154000
DTSTAMP:20260422T101720
CREATED:20141206T121756Z
LAST-MODIFIED:20141207T004112Z
UID:164-1418135400-1418139600@ilchibrainyoga-ikebukuro.com
SUMMARY:一度上がると免疫力がＵＰ↑します。「皿まわしエクササイズ」
DESCRIPTION:◆内容\n皿まわし、気体操、呼吸 \n◆期待できる効果\n冷え性改善、肩こり防止・体をやわらかく・ダイエット \n◆対象者\n健康が気になる方・体をやわらかくしたい方・無理なくダイエットしたい方 \n◆持ち物\n動きやすい服装、タオル、飲み物 \n[event-button]
URL:https://ilchibrainyoga-ikebukuro.com/event/%e4%b8%80%e5%ba%a6%e4%b8%8a%e3%81%8c%e3%82%8b%e3%81%a8%e5%85%8d%e7%96%ab%e5%8a%9b%e3%81%8c%ef%bd%95%ef%bd%90%e2%86%91%e3%81%97%e3%81%be%e3%81%99%e3%80%82%e8%aa%b0%e3%81%ab%e3%81%a7%e3%82%82%e5%87%ba/
LOCATION:イルチブレインヨガ池袋スタジオ\, 東京都 豊島区 東池袋 1-15-1 菱山ビル 8階\, 日本
END:VEVENT
BEGIN:VEVENT
DTSTART;TZID=Asia/Tokyo:20141214T143000
DTEND;TZID=Asia/Tokyo:20141214T154000
DTSTAMP:20260422T101720
CREATED:20141207T004630Z
LAST-MODIFIED:20141207T004630Z
UID:174-1418567400-1418571600@ilchibrainyoga-ikebukuro.com
SUMMARY:一度上がると免疫力がＵＰ↑します。「皿まわしエクササイズ」
DESCRIPTION:◆内容\n皿まわし、気体操、呼吸 \n◆期待できる効果\n冷え性改善、肩こり防止・体をやわらかく・ダイエット \n◆対象者\n健康が気になる方・体をやわらかくしたい方・無理なくダイエットしたい方 \n◆持ち物\n動きやすい服装、タオル、飲み物 \n[event-button]
URL:https://ilchibrainyoga-ikebukuro.com/event/%e4%b8%80%e5%ba%a6%e4%b8%8a%e3%81%8c%e3%82%8b%e3%81%a8%e5%85%8d%e7%96%ab%e5%8a%9b%e3%81%8c%ef%bd%95%ef%bd%90%e2%86%91%e3%81%97%e3%81%be%e3%81%99%e3%80%82%e3%80%8c%e7%9a%bf%e3%81%be%e3%82%8f%e3%81%97-2/
LOCATION:イルチブレインヨガ池袋スタジオ\, 東京都 豊島区 東池袋 1-15-1 菱山ビル 8階\, 日本
END:VEVENT
BEGIN:VEVENT
DTSTART;TZID=Asia/Tokyo:20141216T143000
DTEND;TZID=Asia/Tokyo:20141216T154000
DTSTAMP:20260422T101720
CREATED:20141207T004721Z
LAST-MODIFIED:20141207T004721Z
UID:175-1418740200-1418744400@ilchibrainyoga-ikebukuro.com
SUMMARY:一度上がると免疫力がＵＰ↑します。「皿まわしエクササイズ」
DESCRIPTION:◆内容\n皿まわし、気体操、呼吸 \n◆期待できる効果\n冷え性改善、肩こり防止・体をやわらかく・ダイエット \n◆対象者\n健康が気になる方・体をやわらかくしたい方・無理なくダイエットしたい方 \n◆持ち物\n動きやすい服装、タオル、飲み物 \n[event-button]
URL:https://ilchibrainyoga-ikebukuro.com/event/%e4%b8%80%e5%ba%a6%e4%b8%8a%e3%81%8c%e3%82%8b%e3%81%a8%e5%85%8d%e7%96%ab%e5%8a%9b%e3%81%8c%ef%bd%95%ef%bd%90%e2%86%91%e3%81%97%e3%81%be%e3%81%99%e3%80%82%e3%80%8c%e7%9a%bf%e3%81%be%e3%82%8f%e3%81%97-3/
LOCATION:イルチブレインヨガ池袋スタジオ\, 東京都 豊島区 東池袋 1-15-1 菱山ビル 8階\, 日本
END:VEVENT
BEGIN:VEVENT
DTSTART;TZID=Asia/Tokyo:20141221T023000
DTEND;TZID=Asia/Tokyo:20141221T154000
DTSTAMP:20260422T101720
CREATED:20141207T005119Z
LAST-MODIFIED:20141207T005119Z
UID:181-1419129000-1419176400@ilchibrainyoga-ikebukuro.com
SUMMARY:一度上がると免疫力がＵＰ↑します。「皿まわしエクササイズ」
DESCRIPTION:◆内容\n皿まわし、気体操、呼吸 \n◆期待できる効果\n冷え性改善、肩こり防止・体をやわらかく・ダイエット \n◆対象者\n健康が気になる方・体をやわらかくしたい方・無理なくダイエットしたい方 \n◆持ち物\n動きやすい服装、タオル、飲み物 \n[event-button]
URL:https://ilchibrainyoga-ikebukuro.com/event/%e4%b8%80%e5%ba%a6%e4%b8%8a%e3%81%8c%e3%82%8b%e3%81%a8%e5%85%8d%e7%96%ab%e5%8a%9b%e3%81%8c%ef%bd%95%ef%bd%90%e2%86%91%e3%81%97%e3%81%be%e3%81%99%e3%80%82%e3%80%8c%e7%9a%bf%e3%81%be%e3%82%8f%e3%81%97-6/
LOCATION:イルチブレインヨガ池袋スタジオ\, 東京都 豊島区 東池袋 1-15-1 菱山ビル 8階\, 日本
END:VEVENT
BEGIN:VEVENT
DTSTART;TZID=Asia/Tokyo:20141223T023000
DTEND;TZID=Asia/Tokyo:20141223T154000
DTSTAMP:20260422T101720
CREATED:20141207T004857Z
LAST-MODIFIED:20141207T004857Z
UID:177-1419301800-1419349200@ilchibrainyoga-ikebukuro.com
SUMMARY:一度上がると免疫力がＵＰ↑します。「皿まわしエクササイズ」
DESCRIPTION:◆内容\n皿まわし、気体操、呼吸 \n◆期待できる効果\n冷え性改善、肩こり防止・体をやわらかく・ダイエット \n◆対象者\n健康が気になる方・体をやわらかくしたい方・無理なくダイエットしたい方 \n◆持ち物\n動きやすい服装、タオル、飲み物 \n[event-button]
URL:https://ilchibrainyoga-ikebukuro.com/event/%e4%b8%80%e5%ba%a6%e4%b8%8a%e3%81%8c%e3%82%8b%e3%81%a8%e5%85%8d%e7%96%ab%e5%8a%9b%e3%81%8c%ef%bd%95%ef%bd%90%e2%86%91%e3%81%97%e3%81%be%e3%81%99%e3%80%82%e3%80%8c%e7%9a%bf%e3%81%be%e3%82%8f%e3%81%97-5/
LOCATION:イルチブレインヨガ池袋スタジオ\, 東京都 豊島区 東池袋 1-15-1 菱山ビル 8階\, 日本
END:VEVENT
BEGIN:VEVENT
DTSTART;TZID=Asia/Tokyo:20141228T143000
DTEND;TZID=Asia/Tokyo:20141228T154000
DTSTAMP:20260422T101720
CREATED:20141207T004807Z
LAST-MODIFIED:20141207T004807Z
UID:176-1419777000-1419781200@ilchibrainyoga-ikebukuro.com
SUMMARY:一度上がると免疫力がＵＰ↑します。「皿まわしエクササイズ」
DESCRIPTION:◆内容\n皿まわし、気体操、呼吸 \n◆期待できる効果\n冷え性改善、肩こり防止・体をやわらかく・ダイエット \n◆対象者\n健康が気になる方・体をやわらかくしたい方・無理なくダイエットしたい方 \n◆持ち物\n動きやすい服装、タオル、飲み物 \n[event-button]
URL:https://ilchibrainyoga-ikebukuro.com/event/%e4%b8%80%e5%ba%a6%e4%b8%8a%e3%81%8c%e3%82%8b%e3%81%a8%e5%85%8d%e7%96%ab%e5%8a%9b%e3%81%8c%ef%bd%95%ef%bd%90%e2%86%91%e3%81%97%e3%81%be%e3%81%99%e3%80%82%e3%80%8c%e7%9a%bf%e3%81%be%e3%82%8f%e3%81%97-4/
LOCATION:イルチブレインヨガ池袋スタジオ\, 東京都 豊島区 東池袋 1-15-1 菱山ビル 8階\, 日本
END:VEVENT
END:VCALENDAR