BEGIN:VCALENDAR
VERSION:2.0
PRODID:-//イルチブレインヨガ池袋スタジオ - ECPv6.15.20//NONSGML v1.0//EN
CALSCALE:GREGORIAN
METHOD:PUBLISH
X-WR-CALNAME:イルチブレインヨガ池袋スタジオ
X-ORIGINAL-URL:https://ilchibrainyoga-ikebukuro.com
X-WR-CALDESC:イルチブレインヨガ池袋スタジオ のイベント
REFRESH-INTERVAL;VALUE=DURATION:PT1H
X-Robots-Tag:noindex
X-PUBLISHED-TTL:PT1H
BEGIN:VTIMEZONE
TZID:Asia/Tokyo
BEGIN:STANDARD
TZOFFSETFROM:+0900
TZOFFSETTO:+0900
TZNAME:JST
DTSTART:20130101T000000
END:STANDARD
END:VTIMEZONE
BEGIN:VEVENT
DTSTART;TZID=Asia/Tokyo:20140629T140000
DTEND;TZID=Asia/Tokyo:20140629T170000
DTSTAMP:20260422T171925
CREATED:20140713T064001Z
LAST-MODIFIED:20140713T064001Z
UID:94-1404050400-1404061200@ilchibrainyoga-ikebukuro.com
SUMMARY:実践できる！引き寄せの法則　ドキュメンタリー映画「CHANGE」上映会
DESCRIPTION:◆内容\n実践できる！引き寄せの法則　ドキュメンタリー映画「CHANGE」上映会 \n◆トレーナー\n\n萩原美奈子 \n◆ドキュメンタリー映画『CHANGE』上映案内サイト\n\nhttp://change-movie.net/\n  \n  \n[event-button] \n 
URL:https://ilchibrainyoga-ikebukuro.com/event/%e5%ae%9f%e8%b7%b5%e3%81%a7%e3%81%8d%e3%82%8b%ef%bc%81%e5%bc%95%e3%81%8d%e5%af%84%e3%81%9b%e3%81%ae%e6%b3%95%e5%89%87%e3%80%80%e3%83%89%e3%82%ad%e3%83%a5%e3%83%a1%e3%83%b3%e3%82%bf%e3%83%aa%e3%83%bc/
LOCATION:イルチブレインヨガ池袋スタジオ\, 東京都 豊島区 東池袋 1-15-1 菱山ビル 8階\, 日本
END:VEVENT
END:VCALENDAR